BEGIN:VCALENDAR
VERSION:2.0
PRODID:-//Allenspark Old Gallery - ECPv6.15.20//NONSGML v1.0//EN
CALSCALE:GREGORIAN
METHOD:PUBLISH
X-WR-CALNAME:Allenspark Old Gallery
X-ORIGINAL-URL:https://www.theoldgallery.org
X-WR-CALDESC:Events for Allenspark Old Gallery
REFRESH-INTERVAL;VALUE=DURATION:PT1H
X-Robots-Tag:noindex
X-PUBLISHED-TTL:PT1H
BEGIN:VTIMEZONE
TZID:America/Denver
BEGIN:DAYLIGHT
TZOFFSETFROM:-0700
TZOFFSETTO:-0600
TZNAME:MDT
DTSTART:20250309T090000
END:DAYLIGHT
BEGIN:STANDARD
TZOFFSETFROM:-0600
TZOFFSETTO:-0700
TZNAME:MST
DTSTART:20251102T080000
END:STANDARD
BEGIN:DAYLIGHT
TZOFFSETFROM:-0700
TZOFFSETTO:-0600
TZNAME:MDT
DTSTART:20260308T090000
END:DAYLIGHT
BEGIN:STANDARD
TZOFFSETFROM:-0600
TZOFFSETTO:-0700
TZNAME:MST
DTSTART:20261101T080000
END:STANDARD
BEGIN:DAYLIGHT
TZOFFSETFROM:-0700
TZOFFSETTO:-0600
TZNAME:MDT
DTSTART:20270314T090000
END:DAYLIGHT
BEGIN:STANDARD
TZOFFSETFROM:-0600
TZOFFSETTO:-0700
TZNAME:MST
DTSTART:20271107T080000
END:STANDARD
END:VTIMEZONE
BEGIN:VEVENT
DTSTART;TZID=America/Denver:20260510T203000
DTEND;TZID=America/Denver:20260510T223000
DTSTAMP:20260425T071308
CREATED:20251223T034210Z
LAST-MODIFIED:20260324T195646Z
UID:10002619-1778445000-1778452200@www.theoldgallery.org
SUMMARY:Mountain Skies Astronomy
DESCRIPTION:We invite you to stargaze from the back porch of The Old Gallery. \nLeslie is back and invites you to stargaze from the back porch of the Gallery.\n\nThis casual gathering will be a chance to explore our night sky and learn some interesting facts. Please come prepared with extra layers (it gets chilly in the mountains when the sun goes down) and a blanket if you want to lay back and gaze at the stars. You are welcome to bring binoculars\, which may allow you to see some features of the night sky in greater clarity.\n\nThis event will be weather dependent. \nLed by: Astronomer Leslie Young \nWhen:  Sundays throughout the Spring and Summer:
URL:https://www.theoldgallery.org/events-calendar/9272-2-2/2026-05-10/
LOCATION:The Old Gallery\, 14863 Colorado Hwy 7 Allenspark\, CO 80510\, CO\, United States
END:VEVENT
END:VCALENDAR