BEGIN:VCALENDAR
VERSION:2.0
PRODID:-//Allenspark Old Gallery - ECPv6.15.20//NONSGML v1.0//EN
CALSCALE:GREGORIAN
METHOD:PUBLISH
X-ORIGINAL-URL:https://www.theoldgallery.org
X-WR-CALDESC:Events for Allenspark Old Gallery
REFRESH-INTERVAL;VALUE=DURATION:PT1H
X-Robots-Tag:noindex
X-PUBLISHED-TTL:PT1H
BEGIN:VTIMEZONE
TZID:America/Denver
BEGIN:DAYLIGHT
TZOFFSETFROM:-0700
TZOFFSETTO:-0600
TZNAME:MDT
DTSTART:20240310T090000
END:DAYLIGHT
BEGIN:STANDARD
TZOFFSETFROM:-0600
TZOFFSETTO:-0700
TZNAME:MST
DTSTART:20241103T080000
END:STANDARD
BEGIN:DAYLIGHT
TZOFFSETFROM:-0700
TZOFFSETTO:-0600
TZNAME:MDT
DTSTART:20250309T090000
END:DAYLIGHT
BEGIN:STANDARD
TZOFFSETFROM:-0600
TZOFFSETTO:-0700
TZNAME:MST
DTSTART:20251102T080000
END:STANDARD
BEGIN:DAYLIGHT
TZOFFSETFROM:-0700
TZOFFSETTO:-0600
TZNAME:MDT
DTSTART:20260308T090000
END:DAYLIGHT
BEGIN:STANDARD
TZOFFSETFROM:-0600
TZOFFSETTO:-0700
TZNAME:MST
DTSTART:20261101T080000
END:STANDARD
BEGIN:DAYLIGHT
TZOFFSETFROM:-0700
TZOFFSETTO:-0600
TZNAME:MDT
DTSTART:20270314T090000
END:DAYLIGHT
BEGIN:STANDARD
TZOFFSETFROM:-0600
TZOFFSETTO:-0700
TZNAME:MST
DTSTART:20271107T080000
END:STANDARD
END:VTIMEZONE
BEGIN:VEVENT
DTSTART;TZID=America/Denver:20260329T150000
DTEND;TZID=America/Denver:20260329T160000
DTSTAMP:20260423T123925
CREATED:20260218T170431Z
LAST-MODIFIED:20260218T194038Z
UID:10002539-1774796400-1774800000@www.theoldgallery.org
SUMMARY:March Learning Lecture -  Wildlife Corridors
DESCRIPTION:
URL:https://www.theoldgallery.org/events-calendar/march-learning-lecture-wildlife-corridors/
LOCATION:The Old Gallery\, 14863 Colorado Hwy 7 Allenspark\, CO 80510\, CO\, United States
END:VEVENT
BEGIN:VEVENT
DTSTART;TZID=America/Denver:20260328T150000
DTEND;TZID=America/Denver:20260328T170000
DTSTAMP:20260423T123925
CREATED:20260218T165802Z
LAST-MODIFIED:20260324T201426Z
UID:10002538-1774710000-1774717200@www.theoldgallery.org
SUMMARY:Cocktails & Crochet
DESCRIPTION:
URL:https://www.theoldgallery.org/events-calendar/cocktails-crochet/2026-03-28/
LOCATION:The Old Gallery\, 14863 Colorado Hwy 7 Allenspark\, CO 80510\, CO\, United States
ORGANIZER;CN="The Old Gallery":MAILTO:info@theoldgallery.org
END:VEVENT
BEGIN:VEVENT
DTSTART;TZID=America/Denver:20260313T180000
DTEND;TZID=America/Denver:20260313T200000
DTSTAMP:20260423T123925
CREATED:20260218T163430Z
LAST-MODIFIED:20260218T163430Z
UID:10002536-1773424800-1773432000@www.theoldgallery.org
SUMMARY:Whiskey Tasting
DESCRIPTION:
URL:https://www.theoldgallery.org/events-calendar/whiskey-tasting/
LOCATION:The Old Gallery\, 14863 Colorado Hwy 7 Allenspark\, CO 80510\, CO\, United States
END:VEVENT
BEGIN:VEVENT
DTSTART;TZID=America/Denver:20260221T130000
DTEND;TZID=America/Denver:20260221T150000
DTSTAMP:20260423T123925
CREATED:20260125T102840Z
LAST-MODIFIED:20260125T102840Z
UID:10002484-1771678800-1771686000@www.theoldgallery.org
SUMMARY:Pet Craft Workshop
DESCRIPTION:Get ready to craft for the creatures who bring us the most joy (and fur). Join us at The Old Gallery for a Pet Toy Crafting Workshop where we’ll be making fun\, engaging toys and enrichment items designed to keep your pets curious\, busy\, and mentally stimulated.\n\nThis hands-on workshop is all about creating simple\, creative projects that help beat boredom and keep tails wagging and whiskers twitching. Whether your pet is a puzzle-lover\, a shredder\, or just needs a little extra brain workout\, you’ll leave with something made with love. \nNo crafting experience needed\, just a fondness for pets and a willingness to get a little creative. Your pets may not be able to attend\, but they’ll definitely reap the benefits once you get home. Save up and bring your empty toilet paper and paper towel tubes. \n\nPlease RSVP to karen@theoldgallery.org so we have enough supplies on hand.
URL:https://www.theoldgallery.org/events-calendar/pet-craft-workshop/
LOCATION:The Old Gallery\, 14863 Colorado Hwy 7 Allenspark\, CO 80510\, CO\, United States
ORGANIZER;CN="Karen Owens":MAILTO:Karen@theoldgallery.org
END:VEVENT
BEGIN:VEVENT
DTSTART;TZID=America/Denver:20260214T180000
DTEND;TZID=America/Denver:20260214T200000
DTSTAMP:20260423T123925
CREATED:20260125T093232Z
LAST-MODIFIED:20260125T140411Z
UID:10002483-1771092000-1771099200@www.theoldgallery.org
SUMMARY:Valentines Dinner
DESCRIPTION:This Valentine’s Day\, we’re skipping the pressure and leaning into what really matters: great food\, great people\, and a great excuse to get out for the evening. Join us for a cozy\, community-centered Valentine’s Day Supper – served up Italian style.\nYour evening will include a delicious Italian-themed meal with an appetizer\, supper\, dessert\, and a drink – because every good night deserves to start and end well. Come hungry and ready to linger. And bonus! you don’t have to drive all the way to Estes and fight for a reservation.\nCouples\, singles\, friends\, and neighbors are all welcome. Whether you’re celebrating love\, friendship\, or simply your love of good Italian food\, this is a no-pressure\, all-fun kind of night. Expect laughter\, conversation\, and the kind of shared table that makes Valentine’s Day feel easy and enjoyable.\n\n\n\n\n\nTickets for $25 each must be purchased by Monday\, Feb 9th!\n\n  
URL:https://www.theoldgallery.org/events-calendar/valentines-dinner/
LOCATION:The Old Gallery\, 14863 Colorado Hwy 7 Allenspark\, CO 80510\, CO\, United States
ORGANIZER;CN="The Old Gallery":MAILTO:info@theoldgallery.org
END:VEVENT
BEGIN:VEVENT
DTSTART;TZID=America/Denver:20260212T120000
DTEND;TZID=America/Denver:20260212T133000
DTSTAMP:20260423T123925
CREATED:20260124T191936Z
LAST-MODIFIED:20260124T191936Z
UID:10002481-1770897600-1770903000@www.theoldgallery.org
SUMMARY:Lunchtime Learning Lecture
DESCRIPTION:We are excited to partner with the Allenspark Community Church Lunch Bunch in hosting Tim Luethke\, Grasslands Restoration Coordinator for the Denver Zoo Conservation Alliance (DZCA). \nTim was recently featured in the Western Landowners Alliance for his leadership in restoring native dung beetle populations alongside the DZCA’s conservation bison herd. Tim will share about this work and how dung beetles and bison can improve grassland conditions for wildlife\, livestock\, and landowners alike. \n\nVenue: The Community Church next to the Post Office\nDate: Thursday\, February 12th at 12pm \nTime: Lunch starts at 12pm\, Tim’s Presentation starts at 12:30 pm\nCost: $10 cash donation\n\nRSVP to Cindy @ (303) 350-7374 or rockettwoman@aol.com by Saturday\, February 7th if you’d like to have Lunch!\n\nNO NEED TO RSVP IF YOU ONLY WANT TO ATTEND THE LECTURE
URL:https://www.theoldgallery.org/events-calendar/lunchtime-learning-lecture/
LOCATION:The Old Gallery\, 14863 Colorado Hwy 7 Allenspark\, CO 80510\, CO\, United States
END:VEVENT
BEGIN:VEVENT
DTSTART;TZID=America/Denver:20260208T163000
DTEND;TZID=America/Denver:20260208T223000
DTSTAMP:20260423T123925
CREATED:20260124T184221Z
LAST-MODIFIED:20260124T184221Z
UID:10002479-1770568200-1770589800@www.theoldgallery.org
SUMMARY:Super Bowl Party
DESCRIPTION:Join us to choose our teams\, grab some snacks\, and settle on the couch for the commercials. Come for the football\, stay for the tasty treats\, and enjoy great company—whether you’re here for the game\, the ads\, or just the good vibes. Bring a friend\, don your team colors (or not)\, and prepare for a laid-back afternoon filled with cheering\, laughter\, and camaraderie as we watch the big game together.\n\nPlease bring some game day snacks to share. The cash bar will be serving drinks.
URL:https://www.theoldgallery.org/events-calendar/super-bowl-party/
LOCATION:The Old Gallery\, 14863 Colorado Hwy 7 Allenspark\, CO 80510\, CO\, United States
ORGANIZER;CN="The Old Gallery":MAILTO:info@theoldgallery.org
END:VEVENT
BEGIN:VEVENT
DTSTART;TZID=America/Denver:20260206T190000
DTEND;TZID=America/Denver:20260206T213000
DTSTAMP:20260423T123925
CREATED:20260124T182056Z
LAST-MODIFIED:20260124T182056Z
UID:10002477-1770404400-1770413400@www.theoldgallery.org
SUMMARY:Olympics Opening Ceremony
DESCRIPTION:Italy will host the 2026 Winter Olympics in Milan and Cortina d’Amprezzo. Join us at The Old Gallery to enjoy the thrill of the Opening Ceremonies on our big screen\, lounging comfortably on our cozy couches with your friends.
URL:https://www.theoldgallery.org/events-calendar/olympics-opening-ceremony/
LOCATION:The Old Gallery\, 14863 Colorado Hwy 7 Allenspark\, CO 80510\, CO\, United States
ORGANIZER;CN="Kathy Sandmeier":MAILTO:kathy@theoldgallery.org
END:VEVENT
BEGIN:VEVENT
DTSTART;TZID=America/Denver:20251231T180000
DTEND;TZID=America/Denver:20251231T200000
DTSTAMP:20260423T123925
CREATED:20251204T070940Z
LAST-MODIFIED:20251204T070940Z
UID:10002085-1767204000-1767211200@www.theoldgallery.org
SUMMARY:Old Farts New Year's Eve Party
DESCRIPTION:
URL:https://www.theoldgallery.org/events-calendar/old-farts-new-years-eve-party/
LOCATION:The Old Gallery\, 14863 Colorado Hwy 7 Allenspark\, CO 80510\, CO\, United States
ORGANIZER;CN="Kathy Sandmeier":MAILTO:kathy@theoldgallery.org
END:VEVENT
BEGIN:VEVENT
DTSTART;TZID=America/Denver:20251222T080000
DTEND;TZID=America/Denver:20260206T170000
DTSTAMP:20260423T123925
CREATED:20251222T162619Z
LAST-MODIFIED:20251222T162619Z
UID:10002348-1766390400-1770397200@www.theoldgallery.org
SUMMARY:Winter Hibernation Break
DESCRIPTION:The Old Gallery Retail Store is taking a winter hibernation break and will be closed until February 7. But don’t worry – we’re far from quiet! \nOur Community Center is OPEN for business and buzzing with fun activities\, wellness classes\, and ways to stay connected all winter long. Be sure to click on the Events or Classes tabs at the top of this page to see what’s happening and join us. \nWe hope you’re enjoying a lovely winter and staying warm – we can’t wait to see you soon! \nPlease reach out to info@theoldgallery.org with any questions!
URL:https://www.theoldgallery.org/events-calendar/winter-hibernation-break/
LOCATION:The Old Gallery\, 14863 Colorado Hwy 7 Allenspark\, CO 80510\, CO\, United States
END:VEVENT
BEGIN:VEVENT
DTSTART;TZID=America/Denver:20251221T180000
DTEND;TZID=America/Denver:20251221T210000
DTSTAMP:20260423T123925
CREATED:20251125T203830Z
LAST-MODIFIED:20251125T203830Z
UID:10002067-1766340000-1766350800@www.theoldgallery.org
SUMMARY:Movie Night (Home Alone)
DESCRIPTION:Featured Movie:Home Alone\nAccidentally left home alone\, a plucky 8-year-old stands ready to defend his territory when a pair of bungling burglars set their sights on his house.\n\n\n\nStars: Macaulay Culkin\, Joe Pesci\, Daniel Stern\n\n\n\n\n\nTime: 6:00 pm \nPopcorn is free. Snacks/Sodas/non-alcoholic drinks are for sale for $2\nEmail info@theoldgallery.org or check our website\, theoldgallery.org\, for updates.
URL:https://www.theoldgallery.org/events-calendar/movie-night-home-alone/
LOCATION:The Old Gallery\, 14863 Colorado Hwy 7 Allenspark\, CO 80510\, CO\, United States
ORGANIZER;CN="The Old Gallery":MAILTO:info@theoldgallery.org
END:VEVENT
BEGIN:VEVENT
DTSTART;TZID=America/Denver:20251219T153000
DTEND;TZID=America/Denver:20251219T173000
DTSTAMP:20260423T123925
CREATED:20251208T214817Z
LAST-MODIFIED:20251211T014600Z
UID:10002115-1766158200-1766165400@www.theoldgallery.org
SUMMARY:Year-End Cord Cutting & Yoga Workshop
DESCRIPTION:Step into the New Year feeling lighter and deeply aligned. This nurturing workshop is designed to help you gently release what no longer serves you and welcome fresh intentions for the year ahead. \nWe’ll begin with gentle yoga stretches and breathwork\, easing tension from the body and calming the mind. We will follow with a sacred cord cutting ceremony\, a symbolic and empowering ritual to energetically let go of old patterns\, relationships\, or experiences that may be holding you back. Through intention and mindful presence\, you’ll create space for new gratitude and opportunities. \nNext\, we’ll move through a deep rest Yoga Nidra meditation\, allowing you to fully surrender\, release\, and reset on a soul-deep level. \nTo close\, we’ll gather for an affirmation of candle lighting\, opening space for new blessings this year and sealing intentions with light\, warmth\, and clarity—carrying your renewed energy into the New Year. \n\n\n\n\n\n\n\n\n\n\n\n\n\n\n\n\n\nNo experience needed—just an open heart and the willingness to let go. Wear soft comfortable clothing.  Leave feeling lighter\, grounded\, and ready to step into the new year with peace and purpose. \n\n\n\n\nKate Pitts\, a visiting instructor\, is providing her services for free; however\, donations to the Gallery in appreciation of her time are welcomed. \n\n\n\n\n\nDate: Friday\, December 19th\nTime: 3:30pm – 5:30pm
URL:https://www.theoldgallery.org/events-calendar/year-end-cord-cutting-yoga-workshop/
LOCATION:The Old Gallery\, 14863 Colorado Hwy 7 Allenspark\, CO 80510\, CO\, United States
ORGANIZER;CN="The Old Gallery":MAILTO:info@theoldgallery.org
END:VEVENT
BEGIN:VEVENT
DTSTART;TZID=America/Denver:20251218T093000
DTEND;TZID=America/Denver:20251218T110000
DTSTAMP:20260423T123925
CREATED:20251223T054557Z
LAST-MODIFIED:20251223T060653Z
UID:10002058-1766050200-1766055600@www.theoldgallery.org
SUMMARY:Yoga -  Basic & Gentle
DESCRIPTION:Peggy D will return for classes in late Spring 2026. \nJoin Peggy Donahue of Pacha Mamma Massage & Yoga for classes upstairs at The Old Gallery. Peggy trained at Shoshoi Yoga Retreat Center in Rollinsville\, CO and has taught since 2006. Her personal Yoga practice began more than 35 years ago. Peggy enjoys and lives the practice of Hatha Yoga. \nMats\, blocks\, straps and blankets are provided (or bring your own if you prefer). Wear comfortable\, stretchy clothing and bring an empty stomach along with your water. Each class has a nominal fee of $15/session or a 10-class pass can be purchased for $120. Please RSVP. \nDuring the summer months dates\, times\, and locations occasionally vary – please check with Peggy for scheduling details.  Peggy encourages all her yoga participants to join her email list for the latest updates. \nContact Peggy at 303-747-0489  or summits49@yahoo.com.
URL:https://www.theoldgallery.org/events-calendar/yoga-basic-gentle-2-2/
LOCATION:The Old Gallery\, 14863 Colorado Hwy 7 Allenspark\, CO 80510\, CO\, United States
END:VEVENT
BEGIN:VEVENT
DTSTART;TZID=America/Denver:20251217T153000
DTEND;TZID=America/Denver:20251217T173000
DTSTAMP:20260423T123925
CREATED:20251104T160151Z
LAST-MODIFIED:20251104T160151Z
UID:10002062-1765985400-1765992600@www.theoldgallery.org
SUMMARY:Hands On Healing
DESCRIPTION:Discover the gentle power of touch and energy during this 4-part series introducing Hands-on-Healing. This class is ideal for caregivers\, anyone interested in self-care or personal growth\, or those simply curious about holistic health. No experience needed—just an open mind and willingness to learn. \nYou’ll explore how simple touch and focused energy can support well-being for yourself and others. You’ll learn how to sense and move energy\, stay centered and grounded\, and experience both giving and receiving gentle healing. \nCurious but not convinced? \nYou don’t have to be a believer to enjoy this class! Our Hands-On Healing sessions are all about relaxation\, mindfulness\, and human connection. Think of it as a chance to slow down\, de-stress\, and explore how calm\, focused attention can make you – and others – feel more at ease. You’ll learn simple techniques that help improve relaxation\, reduce tension\, and support overall well-being. Many participants find the experience surprisingly soothing\, even if they come in as skeptics.\nPLEASE RSVP by emailing Mike Brown at jongeleur@gmail.com \n\n\n\n\n\n\n\n\n\n\n\n\n 
URL:https://www.theoldgallery.org/events-calendar/hands-on-healing/2025-12-17/
LOCATION:The Old Gallery\, 14863 Colorado Hwy 7 Allenspark\, CO 80510\, CO\, United States
ORGANIZER;CN="Mike Brown":MAILTO:jongeleur@gmail.com
END:VEVENT
BEGIN:VEVENT
DTSTART;TZID=America/Denver:20251216T163000
DTEND;TZID=America/Denver:20251216T190000
DTSTAMP:20260423T123925
CREATED:20251223T060959Z
LAST-MODIFIED:20251223T061029Z
UID:10002049-1765902600-1765911600@www.theoldgallery.org
SUMMARY:Yoga -  Intermediate (Tuesdays)
DESCRIPTION:Peggy D will return for classes in late Spring 2026. \nJoin Peggy Donahue of Pacha Mamma Massage & Yoga for classes upstairs at The Old Gallery. Peggy trained at Shoshoi Yoga Retreat Center in Rollinsville\, CO and has taught since 2006. Her personal Yoga practice began more than 35 years ago. Peggy enjoys and lives the practice of Hatha Yoga. \nMats\, blocks\, straps and blankets are provided (or bring your own if you prefer). Wear comfortable\, stretchy clothing and bring an empty stomach along with your water. Each class has a nominal fee of $15/session or a 10-class pass can be purchased for $120. Please RSVP. \nContact Peggy at 303-747-0489 or summits49@yahoo.com.
URL:https://www.theoldgallery.org/events-calendar/yoga-intermediate-tuesdays-2-2/
LOCATION:The Old Gallery\, 14863 Colorado Hwy 7 Allenspark\, CO 80510\, CO\, United States
ORGANIZER;CN="Peggy Donahue":MAILTO:summits49@yahoo.com
END:VEVENT
BEGIN:VEVENT
DTSTART;TZID=America/Denver:20251213T170000
DTEND;TZID=America/Denver:20251213T190000
DTSTAMP:20260423T123925
CREATED:20251204T071234Z
LAST-MODIFIED:20251204T071234Z
UID:10002086-1765645200-1765652400@www.theoldgallery.org
SUMMARY:Holiday Cookie Exchange
DESCRIPTION:
URL:https://www.theoldgallery.org/events-calendar/holiday-cookie-exchange/
LOCATION:The Old Gallery\, 14863 Colorado Hwy 7 Allenspark\, CO 80510\, CO\, United States
END:VEVENT
BEGIN:VEVENT
DTSTART;TZID=America/Denver:20251208T163000
DTEND;TZID=America/Denver:20251208T183000
DTSTAMP:20260423T123925
CREATED:20251204T071516Z
LAST-MODIFIED:20251204T071516Z
UID:10002087-1765211400-1765218600@www.theoldgallery.org
SUMMARY:Christmas Arts & Crafts Workshop
DESCRIPTION:
URL:https://www.theoldgallery.org/events-calendar/christmas-arts-crafts-workshop/
LOCATION:The Old Gallery\, 14863 Colorado Hwy 7 Allenspark\, CO 80510\, CO\, United States
END:VEVENT
BEGIN:VEVENT
DTSTART;TZID=America/Denver:20251206T173000
DTEND;TZID=America/Denver:20251206T213000
DTSTAMP:20260423T123925
CREATED:20251030T034453Z
LAST-MODIFIED:20251122T173526Z
UID:10002030-1765042200-1765056600@www.theoldgallery.org
SUMMARY:It’s Gettin’ Western at The Old Gallery
DESCRIPTION:Tickets: $45 per person and include a cocktail. (On sale starting November 1st\, so grab them quick before they’re gone!) :
URL:https://www.theoldgallery.org/events-calendar/its-gettin-western-at-the-old-gallery/
LOCATION:The Old Gallery\, 14863 Colorado Hwy 7 Allenspark\, CO 80510\, CO\, United States
ORGANIZER;CN="Kathy Sandmeier":MAILTO:kathy@theoldgallery.org
END:VEVENT
BEGIN:VEVENT
DTSTART;TZID=America/Denver:20251203T001500
DTEND;TZID=America/Denver:20251203T033000
DTSTAMP:20260423T123925
CREATED:20251030T024912Z
LAST-MODIFIED:20251030T031053Z
UID:10002028-1764720900-1764732600@www.theoldgallery.org
SUMMARY:Broncos Football Night
DESCRIPTION:
URL:https://www.theoldgallery.org/events-calendar/broncos-football-night/
LOCATION:The Old Gallery\, 14863 Colorado Hwy 7 Allenspark\, CO 80510\, CO\, United States
ORGANIZER;CN="Michael Abraham":MAILTO:mabraham@alum.mit.edu
END:VEVENT
BEGIN:VEVENT
DTSTART;TZID=America/Denver:20251116T180000
DTEND;TZID=America/Denver:20251116T210000
DTSTAMP:20260423T123925
CREATED:20251022T004000Z
LAST-MODIFIED:20251030T022406Z
UID:10002012-1763316000-1763326800@www.theoldgallery.org
SUMMARY:Movie Night (Planes\, Trains & Automobiles)
DESCRIPTION:Featured Movie: Planes\, Trains & Automobiles\n A Chicago advertising man must struggle to travel home from New York for Thanksgiving\, with a lovable oaf of a shower-curtain-ring salesman as his only companion.\n\nStars Steve Martin\, John Candy\, and Laila Robins.\n\n\n\nTime: 6:00 pm \nPopcorn is free. Snacks/Sodas/non-alcoholic drinks are for sale for $2\nEmail info@theoldgallery.org or check our website\, theoldgallery.org\, for updates.
URL:https://www.theoldgallery.org/events-calendar/movie-night-planes-trains-automobiles/
LOCATION:The Old Gallery\, 14863 Colorado Hwy 7 Allenspark\, CO 80510\, CO\, United States
ORGANIZER;CN="The Old Gallery":MAILTO:info@theoldgallery.org
END:VEVENT
BEGIN:VEVENT
DTSTART;TZID=America/Denver:20251025T183000
DTEND;TZID=America/Denver:20251025T213000
DTSTAMP:20260423T123925
CREATED:20250905T034158Z
LAST-MODIFIED:20250905T034223Z
UID:10002002-1761417000-1761427800@www.theoldgallery.org
SUMMARY:Spooktacular  Bash
DESCRIPTION: Join us for our Spooktacular Bash.  It’s a wickedly good time with something for everyone—whether you’re brewing up a batch of chili for the cookoff\, showing off your most spooktacular costume\, or stepping up to the mic for some hauntingly good performances.  So gather your witches\, monsters\, and friends\, and creep on over to The Old Gallery for a night of fun that’s guaranteed to be a real scream!
URL:https://www.theoldgallery.org/events-calendar/spooktacular-bash-2/
LOCATION:The Old Gallery\, 14863 Colorado Hwy 7 Allenspark\, CO 80510\, CO\, United States
END:VEVENT
BEGIN:VEVENT
DTSTART;TZID=America/Denver:20251019T183000
DTEND;TZID=America/Denver:20251019T210000
DTSTAMP:20260423T123925
CREATED:20251008T194015Z
LAST-MODIFIED:20251012T010742Z
UID:10002011-1760898600-1760907600@www.theoldgallery.org
SUMMARY:Movie Night (Beetlejuice Beetlejuice)
DESCRIPTION:Featured Movie: Beetlejuice Beetlejuice\n  \nBeetlejuice Beetlejuice brings back everyone’s favorite chaotic ghost as the Deetz family returns to their old home in Winter River. After an unexpected tragedy\, Lydia’s rebellious teenage daughter Astrid accidentally opens the portal to the Afterlife—and Beetlejuice is summoned once again. With the living and the dead colliding in hilarious and spooky fashion\, chaos erupts as Beetlejuice schemes\, shrieks\, and steals every scene.\n\n\n\nTime: 6:30 pm \nPopcorn is free. Snacks/Sodas/non-alcoholic drinks are for sale for $2\nEmail mary@healthybeme.com or check our website\, theoldgallery.org\, for updates. \nCommunity Host: Mary Hunter
URL:https://www.theoldgallery.org/events-calendar/movie-night-beetlejuice/
LOCATION:The Old Gallery\, 14863 Colorado Hwy 7 Allenspark\, CO 80510\, CO\, United States
ORGANIZER;CN="Mary Hunter":MAILTO:huntermaryr56@gmail.com
END:VEVENT
BEGIN:VEVENT
DTSTART;TZID=America/Denver:20250927T190000
DTEND;TZID=America/Denver:20250927T210000
DTSTAMP:20260423T123925
CREATED:20250321T161455Z
LAST-MODIFIED:20250321T162415Z
UID:10001445-1758999600-1759006800@www.theoldgallery.org
SUMMARY:Espresso!  Gypsy Jazz Band
DESCRIPTION:  \nTickets:   
URL:https://www.theoldgallery.org/events-calendar/espresso-gypsy-jazz-band/
LOCATION:The Old Gallery\, 14863 Colorado Hwy 7 Allenspark\, CO 80510\, CO\, United States
END:VEVENT
BEGIN:VEVENT
DTSTART;VALUE=DATE:20250927
DTEND;VALUE=DATE:20250929
DTSTAMP:20260423T123925
CREATED:20250905T161930Z
LAST-MODIFIED:20250922T224321Z
UID:10002010-1758931200-1759103999@www.theoldgallery.org
SUMMARY:Peak-to-Peak Studio Tour at The Old Gallery
DESCRIPTION:The Old Gallery is proud to participate in the annual Peak-to-Peak Studio Tour.  Stop by and enjoy live artist demonstrations\, meet some of our 27 local artists\, and check out their spectacular artwork. \nRefreshments will be served as you take in the beauty of the season—it’s the perfect time to enjoy Colorado’s spectacular fall colors while discovering unique and inspiring artwork.
URL:https://www.theoldgallery.org/events-calendar/peak-to-peak-studio-tour-at-the-old-gallery/2025-09-27/
LOCATION:The Old Gallery\, 14863 Colorado Hwy 7 Allenspark\, CO 80510\, CO\, United States
END:VEVENT
BEGIN:VEVENT
DTSTART;TZID=America/Denver:20250924T093000
DTEND;TZID=America/Denver:20250924T110000
DTSTAMP:20260423T123925
CREATED:20250425T043553Z
LAST-MODIFIED:20250903T153716Z
UID:10001749-1758706200-1758711600@www.theoldgallery.org
SUMMARY:Chair Yoga #2
DESCRIPTION:Peggy Donahue will be leading a Free Chair Yoga class on the 2nd and 4th Wednesday of the month at 9:30am upstairs at The Old Gallery. Chair Yoga is an ideal\, safe place to explore movement in a yoga inspired environment – without the worry about getting down onto a mat. \n\n\n\n\n\nWe will focus on the neck\, shoulders\, side body\, spine and even make our way down through our legs with subtle movement. Breath will also be a focus\, practicing some relaxing\, as well as some energizing pranayama (breath/life force) breath control. Meditation – the practice that involves training the mind to achieve a state of calmness\, focus\, and awareness will also be included in the class.\n\nPlease consider joining us for this easy\, opening\, stretching full body\, seated yoga practice upstairs at The Old Gallery. Please RSVP to Peggy at summits49@yahoo.com.
URL:https://www.theoldgallery.org/events-calendar/chair-yoga-2/2025-09-24/
LOCATION:The Old Gallery\, 14863 Colorado Hwy 7 Allenspark\, CO 80510\, CO\, United States
ORGANIZER;CN="Peggy Donahue":MAILTO:summits49@yahoo.com
END:VEVENT
BEGIN:VEVENT
DTSTART;TZID=America/Denver:20250919T183000
DTEND;TZID=America/Denver:20250919T203000
DTSTAMP:20260423T123925
CREATED:20250405T065047Z
LAST-MODIFIED:20250405T065415Z
UID:10001450-1758306600-1758313800@www.theoldgallery.org
SUMMARY:Open Mic hosted by Tim Merkel
DESCRIPTION:
URL:https://www.theoldgallery.org/events-calendar/open-mic-hosted-by-tim-merkel/2025-09-19/
LOCATION:The Old Gallery\, 14863 Colorado Hwy 7 Allenspark\, CO 80510\, CO\, United States
END:VEVENT
BEGIN:VEVENT
DTSTART;TZID=America/Denver:20250917T180000
DTEND;TZID=America/Denver:20250917T200000
DTSTAMP:20260423T123925
CREATED:20250507T225118Z
LAST-MODIFIED:20250507T225118Z
UID:10001881-1758132000-1758139200@www.theoldgallery.org
SUMMARY:Jugglers  Club
DESCRIPTION:Juggling Club Led by: Mike Brown \nHave you always been curious about juggling? Or maybe you know how to juggle and want to practice and grow your skills. The Juggling Club at The Old Gallery is perfect for you! We provide guidance and all equipment. \nWhy not join in and give it a try?  Beginners welcome. \nContact Mike Brown at jongeleur@gmail.com
URL:https://www.theoldgallery.org/events-calendar/jugglers-club-2/2025-09-17/
LOCATION:The Old Gallery\, 14863 Colorado Hwy 7 Allenspark\, CO 80510\, CO\, United States
ORGANIZER;CN="Mike Brown":MAILTO:jongeleur@gmail.com
END:VEVENT
BEGIN:VEVENT
DTSTART;TZID=America/Denver:20250916T180000
DTEND;TZID=America/Denver:20250916T193000
DTSTAMP:20260423T123925
CREATED:20250905T033605Z
LAST-MODIFIED:20250905T033605Z
UID:10002001-1758045600-1758051000@www.theoldgallery.org
SUMMARY:Speaker Series - Rocky Mountain Streams
DESCRIPTION:
URL:https://www.theoldgallery.org/events-calendar/speaker-series-rocky-mountain-streams/
LOCATION:The Old Gallery\, 14863 Colorado Hwy 7 Allenspark\, CO 80510\, CO\, United States
ORGANIZER;CN="Kathy Sandmeier":MAILTO:kathy@theoldgallery.org
END:VEVENT
BEGIN:VEVENT
DTSTART;TZID=America/Denver:20250913T100000
DTEND;TZID=America/Denver:20250913T140000
DTSTAMP:20260423T123925
CREATED:20250425T061057Z
LAST-MODIFIED:20250821T150205Z
UID:10001769-1757757600-1757772000@www.theoldgallery.org
SUMMARY:Allenspark Farmers Market #2
DESCRIPTION:
URL:https://www.theoldgallery.org/events-calendar/farmers-market-2/2025-09-13/
LOCATION:The Old Gallery\, 14863 Colorado Hwy 7 Allenspark\, CO 80510\, CO\, United States
END:VEVENT
BEGIN:VEVENT
DTSTART;TZID=America/Denver:20250913T090000
DTEND;TZID=America/Denver:20250913T150000
DTSTAMP:20260423T123925
CREATED:20250905T130812Z
LAST-MODIFIED:20250905T132208Z
UID:10002007-1757754000-1757775600@www.theoldgallery.org
SUMMARY:Wild Turkey Fest
DESCRIPTION:Go Wild at The Old Gallery during the Wild Turkey Festival! \nThe Wild Turkey Festival is swooping into town\, and The Old Gallery will be buzzing with activities all day long. Start your morning with a delicious pancake breakfast at the Fire Halle\, while our cash bar serves up mimosas and Bloody Marys. Later in the day\, swing back in for Wild Turkey shots to keep the celebration going. \nThroughout the festival\, you can join in on the fun with lively yard games\, try your hand at Pin the Tail on the Turkey\, and take part in our spectacular scavenger hunt. From morning to afternoon\, The Old Gallery is your headquarters for great food\, good drinks\, and plenty of festival fun. \nSwing by our booth in Downtown Allenspark to grab a delicious smoked Turkey Leg! \n 
URL:https://www.theoldgallery.org/events-calendar/9655/
LOCATION:The Old Gallery\, 14863 Colorado Hwy 7 Allenspark\, CO 80510\, CO\, United States
ORGANIZER;CN="Tony Ploughe":MAILTO:TonyPloughe@hotmail.com
END:VEVENT
END:VCALENDAR