BEGIN:VCALENDAR
VERSION:2.0
PRODID:-//Allenspark Old Gallery - ECPv6.15.20//NONSGML v1.0//EN
CALSCALE:GREGORIAN
METHOD:PUBLISH
X-ORIGINAL-URL:https://www.theoldgallery.org
X-WR-CALDESC:Events for Allenspark Old Gallery
REFRESH-INTERVAL;VALUE=DURATION:PT1H
X-Robots-Tag:noindex
X-PUBLISHED-TTL:PT1H
BEGIN:VTIMEZONE
TZID:America/Denver
BEGIN:DAYLIGHT
TZOFFSETFROM:-0700
TZOFFSETTO:-0600
TZNAME:MDT
DTSTART:20230312T090000
END:DAYLIGHT
BEGIN:STANDARD
TZOFFSETFROM:-0600
TZOFFSETTO:-0700
TZNAME:MST
DTSTART:20231105T080000
END:STANDARD
BEGIN:DAYLIGHT
TZOFFSETFROM:-0700
TZOFFSETTO:-0600
TZNAME:MDT
DTSTART:20240310T090000
END:DAYLIGHT
BEGIN:STANDARD
TZOFFSETFROM:-0600
TZOFFSETTO:-0700
TZNAME:MST
DTSTART:20241103T080000
END:STANDARD
BEGIN:DAYLIGHT
TZOFFSETFROM:-0700
TZOFFSETTO:-0600
TZNAME:MDT
DTSTART:20250309T090000
END:DAYLIGHT
BEGIN:STANDARD
TZOFFSETFROM:-0600
TZOFFSETTO:-0700
TZNAME:MST
DTSTART:20251102T080000
END:STANDARD
BEGIN:DAYLIGHT
TZOFFSETFROM:-0700
TZOFFSETTO:-0600
TZNAME:MDT
DTSTART:20260308T090000
END:DAYLIGHT
BEGIN:STANDARD
TZOFFSETFROM:-0600
TZOFFSETTO:-0700
TZNAME:MST
DTSTART:20261101T080000
END:STANDARD
END:VTIMEZONE
BEGIN:VEVENT
DTSTART;TZID=America/Denver:20250802T150000
DTEND;TZID=America/Denver:20250802T150000
DTSTAMP:20260425T094418
CREATED:20250521T151255Z
LAST-MODIFIED:20250821T143028Z
UID:10001891-1754146800-1754146800@www.theoldgallery.org
SUMMARY:Allenspark Family Meet-Up
DESCRIPTION:Looking to connect with other families in the Allenspark area? Join us at The Old Gallery for a fun\, family-friendly gathering! \nOpen to parents\, grandparents\, guardians\, and kids. This will be a space where we can share information\, build community\, and support one another. Whether you’re a local or just passing through\, come hang out\, make new friends\, and let the kids have some fun. We’d love to meet you! As the group grows we can look at expanding our activities. \nWhen:1st and 3rd Saturdays\nTime: 3pm -5pm \nFor more information contact Laura at laura.hofvander@proton.me.
URL:https://www.theoldgallery.org/events-calendar/allenspark-family-meet-up/2025-08-02/
LOCATION:The Old Gallery\, 14863 Colorado Hwy 7 Allenspark\, CO 80510\, CO\, United States
ORGANIZER;CN="Laura Hofvander":MAILTO:laura.hofvander@proton.me
END:VEVENT
BEGIN:VEVENT
DTSTART;TZID=America/Denver:20250720T183000
DTEND;TZID=America/Denver:20250720T210000
DTSTAMP:20260425T094418
CREATED:20250508T033251Z
LAST-MODIFIED:20250717T160257Z
UID:10001887-1753036200-1753045200@www.theoldgallery.org
SUMMARY:Movie Night (Zootopia)
DESCRIPTION:Featured Movie: Zootopia\n \nIn a city of anthropomorphic animals\, a rookie bunny cop and a cynical con artist fox must work together to uncover a conspiracy. \n\nTime: 6:30 pm \nPopcorn is free. Snacks/Sodas/non-alcoholic drinks are for sale for $2\nEmail mary@healthybeme.com or check our website\, theoldgallery.org\, for updates. \nCommunity Host: Mary Hunter
URL:https://www.theoldgallery.org/events-calendar/movie-night-zootopia/
LOCATION:The Old Gallery\, 14863 Colorado Hwy 7 Allenspark\, CO 80510\, CO\, United States
ORGANIZER;CN="Mary Hunter":MAILTO:huntermaryr56@gmail.com
END:VEVENT
BEGIN:VEVENT
DTSTART;TZID=America/Denver:20250719T100000
DTEND;TZID=America/Denver:20250719T120000
DTSTAMP:20260425T094418
CREATED:20250425T025831Z
LAST-MODIFIED:20250727T090857Z
UID:10001606-1752919200-1752926400@www.theoldgallery.org
SUMMARY:Creative Writing #2
DESCRIPTION:Starts back up on June 7th \nThis twice monthly class is available to everyone in the community who enjoys spontaneous\, fun\, and interesting writing.\nNo experience necessary … just a desire to express ideas\, thoughts\, and experiences on paper with interesting prompts. \nThe leader\, Jane Morrissey\, is a published author\, but enjoys casual\, prompt-led writing the most. \nWhen:  1st and 3rd Saturdays\nTime:  10am -Noon \nThere is no charge for this class.  Just bring a pen and paper\, and plan on having an interesting experience!” \nPlease eMail the host with any questions: Jane: jmmori525@gmail.com
URL:https://www.theoldgallery.org/events-calendar/creative-writing-2/2025-07-19/
LOCATION:The Old Gallery\, 14863 Colorado Hwy 7 Allenspark\, CO 80510\, CO\, United States
ORGANIZER;CN="Jane Morrissey":MAILTO:jmmori525@gmail.com
END:VEVENT
BEGIN:VEVENT
DTSTART;TZID=America/Denver:20250715T180000
DTEND;TZID=America/Denver:20250715T190000
DTSTAMP:20260425T094418
CREATED:20250701T154403Z
LAST-MODIFIED:20250701T154403Z
UID:10001934-1752602400-1752606000@www.theoldgallery.org
SUMMARY:Speaker Series:  Small Mountain Owls
DESCRIPTION:
URL:https://www.theoldgallery.org/events-calendar/speaker-series-small-mountain-owls/
LOCATION:The Old Gallery\, 14863 Colorado Hwy 7 Allenspark\, CO 80510\, CO\, United States
END:VEVENT
BEGIN:VEVENT
DTSTART;TZID=America/Denver:20250712T170000
DTEND;TZID=America/Denver:20250712T210000
DTSTAMP:20260425T094418
CREATED:20250226T212035Z
LAST-MODIFIED:20250226T221559Z
UID:10001437-1752339600-1752354000@www.theoldgallery.org
SUMMARY:16th Annual Gala
DESCRIPTION:The Old Gallery Annual Gala Fundraiser\nTheme: Denim and Diamonds\nJoin us for a night of mountain elegance\, fine dining\, and spirited generosity! Dress up in your best Denim & Diamonds attire—whether that’s boots and bling or classic Western glam—and enjoy an evening of fun and fundraising. \nSaturday\, July 12\, 2025\nDoors open at 5 p.m. | Dinner at 6:15 p.m.\nCatering by Foothills Catering\nSignature cocktails & whiskey pours \nEnjoy an unforgettable evening featuring a thrilling live auction\, great company\, and a celebration of community. \nReserve your spot today:    \nYour support makes a lasting impact!  Thank you for being part of this special night. We can’t wait to see you there! \n\nCommunity Hosts: The Old Gallery Board\, Staff\, Volunteers\, & Artists
URL:https://www.theoldgallery.org/events-calendar/16th-annual-gala/
LOCATION:The Old Gallery\, 14863 Colorado Hwy 7 Allenspark\, CO 80510\, CO\, United States
END:VEVENT
BEGIN:VEVENT
DTSTART;TZID=America/Denver:20250709T153000
DTEND;TZID=America/Denver:20250709T163000
DTSTAMP:20260425T094418
CREATED:20250406T031956Z
LAST-MODIFIED:20250406T032044Z
UID:10001584-1752075000-1752078600@www.theoldgallery.org
SUMMARY:Summer  Porch Series
DESCRIPTION:
URL:https://www.theoldgallery.org/events-calendar/summer-porch-series-2/2025-07-09/
LOCATION:The Old Gallery\, 14863 Colorado Hwy 7 Allenspark\, CO 80510\, CO\, United States
END:VEVENT
BEGIN:VEVENT
DTSTART;TZID=America/Denver:20250705T100000
DTEND;TZID=America/Denver:20250705T120000
DTSTAMP:20260425T094418
CREATED:20250425T013917Z
LAST-MODIFIED:20250727T085601Z
UID:10001600-1751709600-1751716800@www.theoldgallery.org
SUMMARY:Creative  Writing Group
DESCRIPTION:Starts back up on June 7th \nThis twice monthly class is available to everyone in the community who enjoys spontaneous\, fun\, and interesting writing.\nNo experience necessary … just a desire to express ideas\, thoughts\, and experiences on paper with interesting prompts. \nThe leader\, Jane Morrissey\, is a published author\, but enjoys casual\, prompt-led writing the most. \nWhen:  1st and 3rd Saturdays\nTime:  10am -Noon \nThere is no charge for this class.  Just bring a pen and paper\, and plan on having an interesting experience!” \n\nPlease eMail the host with any questions: Jane: jmmori525@gmail.com
URL:https://www.theoldgallery.org/events-calendar/creative-writing-group-2-2-2/2025-07-05/
LOCATION:The Old Gallery\, 14863 Colorado Hwy 7 Allenspark\, CO 80510\, CO\, United States
ORGANIZER;CN="Jane Morrissey":MAILTO:jmmori525@gmail.com
END:VEVENT
BEGIN:VEVENT
DTSTART;TZID=America/Denver:20250704T090000
DTEND;TZID=America/Denver:20250704T130000
DTSTAMP:20260425T094418
CREATED:20250530T015614Z
LAST-MODIFIED:20250701T044332Z
UID:10001903-1751619600-1751634000@www.theoldgallery.org
SUMMARY:July 4th Independence Day
DESCRIPTION:
URL:https://www.theoldgallery.org/events-calendar/july-4th-independence-day/
LOCATION:The Old Gallery\, 14863 Colorado Hwy 7 Allenspark\, CO 80510\, CO\, United States
END:VEVENT
BEGIN:VEVENT
DTSTART;TZID=America/Denver:20250628T163000
DTEND;TZID=America/Denver:20250628T190000
DTSTAMP:20260425T094418
CREATED:20250321T054145Z
LAST-MODIFIED:20250321T054145Z
UID:10001441-1751128200-1751137200@www.theoldgallery.org
SUMMARY:Hogabluesa's Dead
DESCRIPTION:
URL:https://www.theoldgallery.org/events-calendar/hogabluesas-dead/
LOCATION:The Old Gallery\, 14863 Colorado Hwy 7 Allenspark\, CO 80510\, CO\, United States
END:VEVENT
BEGIN:VEVENT
DTSTART;TZID=America/Denver:20250615T183000
DTEND;TZID=America/Denver:20250615T210000
DTSTAMP:20260425T094418
CREATED:20250508T031548Z
LAST-MODIFIED:20250521T030310Z
UID:10001886-1750012200-1750021200@www.theoldgallery.org
SUMMARY:Movie Night  (The Importance of Being Earnest)
DESCRIPTION:Sunday Movie Nights\n\n\n\n\n\n\n\n\n\n\n\n\n\n\n\n\n\n\n\n\n\n\n\n\n\nNext Date: Sunday\, June 15th \nFeatured Movie: The Importance of Being Earnest \nTwo young gents have taken to bending the truth in order to put some excitement into their lives. Worthing (Colin Firth) has invented a brother\, Earnest\, whom he uses as an excuse to leave his dull life behind to visit Gwendolyn (Frances Connor). Montcrieff (Rupert Everett) decides to take the name Earnest when visiting Worthing’s young and beautiful ward\, Cecily (Reese Witherspoon).  Things start to go awry when they end up together in the country and their deceptions are discovered.\nTime: 6:30 pm. \nAdmission and Popcorn is free.\nTheater snacks and Non-alcoholic drinks are $1. \nEmail mary@healthybeme.com or check our website\, theoldgallery.org\, for updates. \n\n\n\n\nCommunity Host: Mary Hunter
URL:https://www.theoldgallery.org/events-calendar/movie-night-saving-grace/
LOCATION:The Old Gallery\, 14863 Colorado Hwy 7 Allenspark\, CO 80510\, CO\, United States
ORGANIZER;CN="Mary Hunter":MAILTO:huntermaryr56@gmail.com
END:VEVENT
BEGIN:VEVENT
DTSTART;TZID=America/Denver:20250524T190000
DTEND;TZID=America/Denver:20250524T210000
DTSTAMP:20260425T094418
CREATED:20250321T051934Z
LAST-MODIFIED:20250321T052002Z
UID:10001440-1748113200-1748120400@www.theoldgallery.org
SUMMARY:Jon Pickett Live
DESCRIPTION:
URL:https://www.theoldgallery.org/events-calendar/jon-pickett-live/
LOCATION:The Old Gallery\, 14863 Colorado Hwy 7 Allenspark\, CO 80510\, CO\, United States
END:VEVENT
BEGIN:VEVENT
DTSTART;VALUE=DATE:20250524
DTEND;VALUE=DATE:20250527
DTSTAMP:20260425T094418
CREATED:20250321T051651Z
LAST-MODIFIED:20250321T051651Z
UID:10001439-1748044800-1748303999@www.theoldgallery.org
SUMMARY:Memorial Day Weekend 2025
DESCRIPTION:
URL:https://www.theoldgallery.org/events-calendar/memorial-day-weekend-2025/
LOCATION:The Old Gallery\, 14863 Colorado Hwy 7 Allenspark\, CO 80510\, CO\, United States
END:VEVENT
BEGIN:VEVENT
DTSTART;TZID=America/Denver:20250518T183000
DTEND;TZID=America/Denver:20250518T203000
DTSTAMP:20260425T094418
CREATED:20250424T063542Z
LAST-MODIFIED:20250424T063542Z
UID:10001585-1747593000-1747600200@www.theoldgallery.org
SUMMARY:Movie Night (Chocolat)
DESCRIPTION:Sunday Movie Nights\n\n\n\n\n\n\n\n\n\n\n\n\n\n\n\n\n\n\n\n\n\n\n\n\n\n\n\n\n\n\nFeatured Movie: Chocolat \nA mysterious woman and her daughter open a chocolate store during Lent in a very conservative French town causing turmoil with the moral-minded mayor as the citizens are tempted by the sweet confections that magically change their lives.\nTime: 6:30 pm.  Admission and Popcorn is free.\nTheater snacks and Non-alcoholic drinks are $1. \nEmail mary@healthybeme.com or check our website\, theoldgallery.org\, for updates. \nSTAY WARM WITH LAUGHTER THIS MONTH! \n\n\n\n\nCommunity Host: Mary Hunter
URL:https://www.theoldgallery.org/events-calendar/movie-night-chocolat/
LOCATION:The Old Gallery\, 14863 Colorado Hwy 7 Allenspark\, CO 80510\, CO\, United States
ORGANIZER;CN="Mary Hunter":MAILTO:huntermaryr56@gmail.com
END:VEVENT
BEGIN:VEVENT
DTSTART;TZID=America/Denver:20250503T110000
DTEND;TZID=America/Denver:20250503T170000
DTSTAMP:20260425T094418
CREATED:20250405T201638Z
LAST-MODIFIED:20250405T203205Z
UID:10001521-1746270000-1746291600@www.theoldgallery.org
SUMMARY:Great Estes Park Duck Race
DESCRIPTION:The Old Gallery is pleased to announce that we will be participating in the Estes Park 2025 Duck Race Festival. \nPlease consider adopting a duck.  To learn about the festival and adopting a duck to support The Old Gallery\, please scan the code or click the duck.
URL:https://www.theoldgallery.org/events-calendar/great-estes-park-duck-race/
LOCATION:The Old Gallery\, 14863 Colorado Hwy 7 Allenspark\, CO 80510\, CO\, United States
ORGANIZER;CN="Rotary Club of Estes Park":MAILTO:DuckCentral@EPDuckRace.org
END:VEVENT
BEGIN:VEVENT
DTSTART;TZID=America/Denver:20250420T183000
DTEND;TZID=America/Denver:20250420T203000
DTSTAMP:20260425T094418
CREATED:20250320T032625Z
LAST-MODIFIED:20250508T034443Z
UID:10001438-1745173800-1745181000@www.theoldgallery.org
SUMMARY:Sunday Movie Night (The Bucket List)
DESCRIPTION:Sunday Movie Nights\n\n\n\n\n\n\n\n\n\n\n\n\n\n\n\nNext Date: Sunday\, April 20th \nFeatured Movie: The Bucket List \nBillionaire Edward Cole (Jack Nicholson) and car mechanic Carter Chambers (Morgan Freeman) are complete strangers\, until fate lands them in the same hospital room. The men find they have two things in common: a need to come to terms with who they are and what they have done with their lives\, and a desire to complete a list of things they want to see and do before they die. Against their doctor’s advice\, the men leave the hospital and set out on the adventure of a lifetime. \nTime: 6:30 pm.  Admission and Popcorn is free.\nTheater snacks and Non-alcoholic drinks are $1. \nEmail mary@healthybeme.com or check our website\, theoldgallery.org\, for updates. \nSTAY WARM WITH LAUGHTER THIS MONTH! \n\n\n\n\nCommunity Host: Mary Hunter
URL:https://www.theoldgallery.org/events-calendar/sunday-movie-night/
LOCATION:The Old Gallery\, 14863 Colorado Hwy 7 Allenspark\, CO 80510\, CO\, United States
ORGANIZER;CN="Mary Hunter":MAILTO:huntermaryr56@gmail.com
END:VEVENT
BEGIN:VEVENT
DTSTART;TZID=America/Denver:20250412T180000
DTEND;TZID=America/Denver:20250412T200000
DTSTAMP:20260425T094418
CREATED:20250218T061027Z
LAST-MODIFIED:20250218T061133Z
UID:10001436-1744480800-1744488000@www.theoldgallery.org
SUMMARY:Wine Tasting Night
DESCRIPTION:
URL:https://www.theoldgallery.org/events-calendar/wine-tasting-allenspark-style/
LOCATION:The Old Gallery\, 14863 Colorado Hwy 7 Allenspark\, CO 80510\, CO\, United States
ORGANIZER;CN="Brittni Hamilton":MAILTO:mailto:brittni@theoldgallery.org
END:VEVENT
BEGIN:VEVENT
DTSTART;TZID=America/Denver:20250401T090000
DTEND;TZID=America/Denver:20250401T103000
DTSTAMP:20260425T094418
CREATED:20250114T063637Z
LAST-MODIFIED:20250114T063750Z
UID:10001433-1743498000-1743503400@www.theoldgallery.org
SUMMARY:Video Yoga
DESCRIPTION:Peggy Mauerman will be hosting video yoga this winter until Peggy D returns in April. \nDate: Weekly starting Jan. 2nd. Classes are held on both Tuesday and Thursday.\nTime: 9 am\nCost: Donations welcome. \nIf you are interested in attending\, please email Peggy @ peggy.mauerman@gmail.com and get on her email list. \nYou’ll need to provide your own yoga mat.
URL:https://www.theoldgallery.org/events-calendar/video-yoga-3/2025-04-01/
LOCATION:The Old Gallery\, 14863 Colorado Hwy 7 Allenspark\, CO 80510\, CO\, United States
END:VEVENT
BEGIN:VEVENT
DTSTART;TZID=America/Denver:20250316T183000
DTEND;TZID=America/Denver:20250316T203000
DTSTAMP:20260425T094418
CREATED:20250204T055025Z
LAST-MODIFIED:20250223T185502Z
UID:10001434-1742149800-1742157000@www.theoldgallery.org
SUMMARY:Sunday Movie Night
DESCRIPTION:Sunday Movie Nights\n\n\n\n\n\n\n\n\n\n\n\n\n\n\n\nFeatured Movie: The Man Who Knew Too Little \nIn London a hapless American Wallace Ritchie (Bill Murray) gets signed up to participate in an elaborate role-playing theater performance. However\, when Wallace accidentally receives a call intended for an actual hit man\, he gets caught in a web of intrigue\, unaware that the action unfolding around him is real. \nTime: 6:30 pm.  Admission and Popcorn is free.\nTheater snacks and Non-alcoholic drinks are $1. \nEmail mary@healthybeme.com or check our website\, theoldgallery.org\, for updates. \nSTAY WARM WITH LAUGHTER THIS MONTH!
URL:https://www.theoldgallery.org/events-calendar/movie-night-grumpy-old-men/
LOCATION:The Old Gallery\, 14863 Colorado Hwy 7 Allenspark\, CO 80510\, CO\, United States
ORGANIZER;CN="Mary Hunter":MAILTO:huntermaryr56@gmail.com
END:VEVENT
BEGIN:VEVENT
DTSTART;TZID=America/Denver:20250308T160000
DTEND;TZID=America/Denver:20250308T180000
DTSTAMP:20260425T094418
CREATED:20250218T055407Z
LAST-MODIFIED:20250218T055437Z
UID:10001435-1741449600-1741456800@www.theoldgallery.org
SUMMARY:Women's Clothing SWAP
DESCRIPTION:
URL:https://www.theoldgallery.org/events-calendar/womens-clothing-swap/
LOCATION:The Old Gallery\, 14863 Colorado Hwy 7 Allenspark\, CO 80510\, CO\, United States
ORGANIZER;CN="Brittni Hamilton":MAILTO:mailto:brittni@theoldgallery.org
END:VEVENT
BEGIN:VEVENT
DTSTART;TZID=America/Denver:20241222T100000
DTEND;TZID=America/Denver:20241222T160000
DTSTAMP:20260425T094418
CREATED:20241104T193815Z
LAST-MODIFIED:20241104T194047Z
UID:10001275-1734861600-1734883200@www.theoldgallery.org
SUMMARY:Holiday  Shoppe
DESCRIPTION:
URL:https://www.theoldgallery.org/events-calendar/holiday-shoppe-3/2024-12-22/
LOCATION:The Old Gallery\, 14863 Colorado Hwy 7 Allenspark\, CO 80510\, CO\, United States
ORGANIZER;CN="Brittni Hamilton":MAILTO:mailto:brittni@theoldgallery.org
END:VEVENT
BEGIN:VEVENT
DTSTART;TZID=America/Denver:20241207T170000
DTEND;TZID=America/Denver:20241207T190000
DTSTAMP:20260425T094418
CREATED:20241101T174752Z
LAST-MODIFIED:20241101T174752Z
UID:10001259-1733590800-1733598000@www.theoldgallery.org
SUMMARY:Christmas Cookie Exchange
DESCRIPTION:
URL:https://www.theoldgallery.org/events-calendar/christmas-cookie-exchange/
LOCATION:The Old Gallery\, 14863 Colorado Hwy 7 Allenspark\, CO 80510\, CO\, United States
ORGANIZER;CN="Brittni Hamilton":MAILTO:mailto:brittni@theoldgallery.org
END:VEVENT
BEGIN:VEVENT
DTSTART;TZID=America/Denver:20241129T100000
DTEND;TZID=America/Denver:20241129T160000
DTSTAMP:20260425T094418
CREATED:20241105T061647Z
LAST-MODIFIED:20241105T061718Z
UID:10001397-1732874400-1732896000@www.theoldgallery.org
SUMMARY:Black Friday
DESCRIPTION:We are open on Black Friday (winter hours) with a hot chocolate bar set up to deliver free treats to all our visitors.
URL:https://www.theoldgallery.org/events-calendar/black-friday/
LOCATION:The Old Gallery\, 14863 Colorado Hwy 7 Allenspark\, CO 80510\, CO\, United States
END:VEVENT
BEGIN:VEVENT
DTSTART;TZID=America/Denver:20241117T183000
DTEND;TZID=America/Denver:20241117T210000
DTSTAMP:20260425T094418
CREATED:20241030T030633Z
LAST-MODIFIED:20241030T030633Z
UID:10001258-1731868200-1731877200@www.theoldgallery.org
SUMMARY:Movie Night (Pieces of April)
DESCRIPTION:Featured Movie: Pieces of April\n \n“The Best Thanksgiving Movie”\nIn a very poor zone of New York\, April Burns and her boyfriend\, Bobby\, are preparing to receive April’s family for thanksgiving dinner. While Bobby tries to borrow a suit for himself\, April realizes that her stove is broken. She tries desperately to find a neighbor that can let her cook the turkey\, since she does not want to fail (again) with her family. Meanwhile\, in a suburb of Pennsylvania\, her dysfunctional family is preparing to travel to New York. While driving\, the relationship between the Burns and their black-sheep April is disclosed through the conversations between her father Jim\, her resented mother Joy\, her brother\, her sister and her grandmother. \nTime: 6:30 pm \nPopcorn is free. Snacks/Sodas/non-alcoholic drinks are for sale for $1\nEmail mary@healthybeme.com or check our website\, theoldgallery.org\, for updates. \n\n\n\n\nCommunity Host: Mary Hunter
URL:https://www.theoldgallery.org/events-calendar/movie-night-pieces-of-april/
LOCATION:The Old Gallery\, 14863 Colorado Hwy 7 Allenspark\, CO 80510\, CO\, United States
ORGANIZER;CN="Mary Hunter":MAILTO:huntermaryr56@gmail.com
END:VEVENT
BEGIN:VEVENT
DTSTART;TZID=America/Denver:20241026T183000
DTEND;TZID=America/Denver:20241026T213000
DTSTAMP:20260425T094418
CREATED:20240911T201757Z
LAST-MODIFIED:20240911T201757Z
UID:10000886-1729967400-1729978200@www.theoldgallery.org
SUMMARY:Spooktacular Bash
DESCRIPTION:
URL:https://www.theoldgallery.org/events-calendar/spooktacular-bash/
LOCATION:The Old Gallery\, 14863 Colorado Hwy 7 Allenspark\, CO 80510\, CO\, United States
END:VEVENT
BEGIN:VEVENT
DTSTART;TZID=America/Denver:20241020T183000
DTEND;TZID=America/Denver:20241020T200000
DTSTAMP:20260425T094418
CREATED:20240930T193723Z
LAST-MODIFIED:20250508T035020Z
UID:10001257-1729449000-1729454400@www.theoldgallery.org
SUMMARY:Sunday Movie Nights (The Witches of Eastwick)
DESCRIPTION:Sunday Movie Nights\nNext Date: Sunday\, October 20th \nFeatured Movie: The Witches of Eastwick \nThree single women in a picturesque village have their wishes granted\, at a cost\, when a mysterious and flamboyant man arrives in their lives. \nTime: 6:30 pm\nPopcorn is free. Snacks/Sodas/non-alcoholic drinks are for sale for $1 \nEmail mary@healthybeme.com or check our website\, theoldgallery.org\, for updates.
URL:https://www.theoldgallery.org/events-calendar/sunday-movie-nights-witches-of-eastwick/
LOCATION:The Old Gallery\, 14863 Colorado Hwy 7 Allenspark\, CO 80510\, CO\, United States
END:VEVENT
BEGIN:VEVENT
DTSTART;TZID=America/Denver:20240930T170000
DTEND;TZID=America/Denver:20240930T181500
DTSTAMP:20260425T094418
CREATED:20210901T204331Z
LAST-MODIFIED:20240318T164400Z
UID:10000616-1727715600-1727720100@www.theoldgallery.org
SUMMARY:Yoga (Intermediate)
DESCRIPTION:Join Peggy Donahue of Pacha Mamma Massage & Yoga for classes upstairs at The Old Gallery. Peggy trained at Shoshoi Yoga Retreat Center in Rollinsville\, CO and has taught since 2006. Her personal Yoga practice began more than 35 years ago. Peggy enjoys and lives the practice of Hatha Yoga. \nMats\, blocks\, straps and blankets are provided (or bring your own if you prefer). Wear comfortable\, stretchy clothing and bring an empty stomach along with your water. Each class has a nominal fee of $12/session or a 10-class pass can be purchased for $100. Please RSVP. \nContact Peggy at 303-747-0489 or summits49@yahoo.com.
URL:https://www.theoldgallery.org/events-calendar/yoga-intermediate-mixed-2/2024-09-30/
LOCATION:The Old Gallery\, 14863 Colorado Hwy 7 Allenspark\, CO 80510\, CO\, United States
END:VEVENT
BEGIN:VEVENT
DTSTART;TZID=America/Denver:20240926T093000
DTEND;TZID=America/Denver:20240926T104500
DTSTAMP:20260425T094418
CREATED:20210826T212911Z
LAST-MODIFIED:20240802T035908Z
UID:10000032-1727343000-1727347500@www.theoldgallery.org
SUMMARY:Yoga (Basic and Gentle)
DESCRIPTION:Join Peggy Donahue of Pacha Mamma Massage & Yoga for classes upstairs at The Old Gallery. Peggy trained at Shoshoi Yoga Retreat Center in Rollinsville\, CO and has taught since 2006. Her personal Yoga practice began more than 35 years ago. Peggy enjoys and lives the practice of Hatha Yoga. \nMats\, blocks\, straps and blankets are provided (or bring your own if you prefer). Wear comfortable\, stretchy clothing and bring an empty stomach along with your water. Each class has a nominal fee of $12/session or a 10-class pass can be purchased for $100. Please RSVP. \nDuring the summer months dates\, times\, and locations occasionally vary – please check with Peggy for scheduling details.  Peggy encourages all her yoga participants to join her email list for the latest updates. \nContact Peggy at 303-747-0489  or summits49@yahoo.com.
URL:https://www.theoldgallery.org/events-calendar/yoga-basic-and-gentle/2024-09-26/
LOCATION:The Old Gallery\, 14863 Colorado Hwy 7 Allenspark\, CO 80510\, CO\, United States
END:VEVENT
BEGIN:VEVENT
DTSTART;TZID=America/Denver:20240922T090000
DTEND;TZID=America/Denver:20240922T170000
DTSTAMP:20260425T094418
CREATED:20240912T045120Z
LAST-MODIFIED:20240912T045120Z
UID:10001256-1726995600-1727024400@www.theoldgallery.org
SUMMARY:2024 Peak to Peak Studio Tour
DESCRIPTION:~ Click for Brochure ~
URL:https://www.theoldgallery.org/events-calendar/2024-peak-to-peak-studio-tour/2024-09-22/
LOCATION:The Old Gallery\, 14863 Colorado Hwy 7 Allenspark\, CO 80510\, CO\, United States
END:VEVENT
BEGIN:VEVENT
DTSTART;TZID=America/Denver:20240921T090000
DTEND;TZID=America/Denver:20240921T130000
DTSTAMP:20260425T094418
CREATED:20240814T050602Z
LAST-MODIFIED:20240814T050937Z
UID:10000837-1726909200-1726923600@www.theoldgallery.org
SUMMARY:Allenspark Farmers  Market
DESCRIPTION:The Allenspark Farmers Market returns for its second Summer starting on July 4th and then every other Saturday through September.\n\n\nPopular vendors from last year are back including Paris Bakery\, the Mountain Man\, Jamaican Man BBQ\, Eden Valley Farms\, and Allenspark Jams. New this year is Allenspark vendor\, Health Be Me\, with teas and other herbal remedies.  We have more vendors lining up and will update the list as they confirm the arrangements.\n\n\nTime: 9:00am – 1:00pm\nFree Admission\n\n\n\n\n\n\n\n\n\n\n\n\n\n\n\n\n\n\n\n\nContact Tony Ploughe (Tony Ploughe@hotmail.com) for more information.
URL:https://www.theoldgallery.org/events-calendar/allenspark-farmers-market-2-2/2024-09-21/
LOCATION:The Old Gallery\, 14863 Colorado Hwy 7 Allenspark\, CO 80510\, CO\, United States
END:VEVENT
BEGIN:VEVENT
DTSTART;TZID=America/Denver:20240920T180000
DTEND;TZID=America/Denver:20240920T213000
DTSTAMP:20260425T094418
CREATED:20240814T041731Z
LAST-MODIFIED:20240814T041936Z
UID:10000716-1726855200-1726867800@www.theoldgallery.org
SUMMARY:Open Mic with Tim Merkle
DESCRIPTION:Do you have a talent you would like to share or just come and support local talent? The Old Gallery is hosting 5 open mic nights organized by Tim Merkel from 6:30-9:30 pm. \nNext Date is Aug 16th and then Sept. 20th \nTime: 6:30pm – 9:30pm \nAdmission is free and cash bar. \nmerkel.tim@gmail.com or 815-526-2017 \nA sign up sheet will be put out at 6:15 and for any questions or to sign up in advance please contact Tim Merkel at merkel.tim@gmail.com or 815-526-2017.
URL:https://www.theoldgallery.org/events-calendar/open-mic-with-tim-merkle-2/2024-09-20/
LOCATION:The Old Gallery\, 14863 Colorado Hwy 7 Allenspark\, CO 80510\, CO\, United States
END:VEVENT
END:VCALENDAR