BEGIN:VCALENDAR
VERSION:2.0
PRODID:-//Allenspark Old Gallery - ECPv6.15.20//NONSGML v1.0//EN
CALSCALE:GREGORIAN
METHOD:PUBLISH
X-WR-CALNAME:Allenspark Old Gallery
X-ORIGINAL-URL:https://www.theoldgallery.org
X-WR-CALDESC:Events for Allenspark Old Gallery
REFRESH-INTERVAL;VALUE=DURATION:PT1H
X-Robots-Tag:noindex
X-PUBLISHED-TTL:PT1H
BEGIN:VTIMEZONE
TZID:America/Denver
BEGIN:DAYLIGHT
TZOFFSETFROM:-0700
TZOFFSETTO:-0600
TZNAME:MDT
DTSTART:20250309T090000
END:DAYLIGHT
BEGIN:STANDARD
TZOFFSETFROM:-0600
TZOFFSETTO:-0700
TZNAME:MST
DTSTART:20251102T080000
END:STANDARD
BEGIN:DAYLIGHT
TZOFFSETFROM:-0700
TZOFFSETTO:-0600
TZNAME:MDT
DTSTART:20260308T090000
END:DAYLIGHT
BEGIN:STANDARD
TZOFFSETFROM:-0600
TZOFFSETTO:-0700
TZNAME:MST
DTSTART:20261101T080000
END:STANDARD
BEGIN:DAYLIGHT
TZOFFSETFROM:-0700
TZOFFSETTO:-0600
TZNAME:MDT
DTSTART:20270314T090000
END:DAYLIGHT
BEGIN:STANDARD
TZOFFSETFROM:-0600
TZOFFSETTO:-0700
TZNAME:MST
DTSTART:20271107T080000
END:STANDARD
END:VTIMEZONE
BEGIN:VEVENT
DTSTART;TZID=America/Denver:20260508T160000
DTEND;TZID=America/Denver:20260508T190000
DTSTAMP:20260423T071120
CREATED:20251216T050638Z
LAST-MODIFIED:20251216T051921Z
UID:10002302-1778256000-1778266800@www.theoldgallery.org
SUMMARY:Allenspark Book Club
DESCRIPTION:The Book Club continues to meet now with the regular hours at 4:00pm. \nPlease contact Jen for the latest book selections and meeting locations at jen.jb.bell@gmail.com \nThe current book selection is “Prairie Fires: The American Dreams of Laura Ingalls Wilder” by Caroline Fraser.
URL:https://www.theoldgallery.org/events-calendar/allenspark-book-club-2-2/2026-05-08/
LOCATION:The Old Gallery\, 14863 Colorado Hwy 7 Allenspark\, CO 80510\, CO\, United States
END:VEVENT
BEGIN:VEVENT
DTSTART;TZID=America/Denver:20260612T160000
DTEND;TZID=America/Denver:20260612T190000
DTSTAMP:20260423T071120
CREATED:20251216T050638Z
LAST-MODIFIED:20251216T051921Z
UID:10002303-1781280000-1781290800@www.theoldgallery.org
SUMMARY:Allenspark Book Club
DESCRIPTION:The Book Club continues to meet now with the regular hours at 4:00pm. \nPlease contact Jen for the latest book selections and meeting locations at jen.jb.bell@gmail.com \nThe current book selection is “Prairie Fires: The American Dreams of Laura Ingalls Wilder” by Caroline Fraser.
URL:https://www.theoldgallery.org/events-calendar/allenspark-book-club-2-2/2026-06-12/
LOCATION:The Old Gallery\, 14863 Colorado Hwy 7 Allenspark\, CO 80510\, CO\, United States
END:VEVENT
BEGIN:VEVENT
DTSTART;TZID=America/Denver:20260710T160000
DTEND;TZID=America/Denver:20260710T190000
DTSTAMP:20260423T071120
CREATED:20251216T050638Z
LAST-MODIFIED:20251216T051921Z
UID:10002304-1783699200-1783710000@www.theoldgallery.org
SUMMARY:Allenspark Book Club
DESCRIPTION:The Book Club continues to meet now with the regular hours at 4:00pm. \nPlease contact Jen for the latest book selections and meeting locations at jen.jb.bell@gmail.com \nThe current book selection is “Prairie Fires: The American Dreams of Laura Ingalls Wilder” by Caroline Fraser.
URL:https://www.theoldgallery.org/events-calendar/allenspark-book-club-2-2/2026-07-10/
LOCATION:The Old Gallery\, 14863 Colorado Hwy 7 Allenspark\, CO 80510\, CO\, United States
END:VEVENT
BEGIN:VEVENT
DTSTART;TZID=America/Denver:20260814T160000
DTEND;TZID=America/Denver:20260814T190000
DTSTAMP:20260423T071120
CREATED:20251216T050638Z
LAST-MODIFIED:20251216T051921Z
UID:10002305-1786723200-1786734000@www.theoldgallery.org
SUMMARY:Allenspark Book Club
DESCRIPTION:The Book Club continues to meet now with the regular hours at 4:00pm. \nPlease contact Jen for the latest book selections and meeting locations at jen.jb.bell@gmail.com \nThe current book selection is “Prairie Fires: The American Dreams of Laura Ingalls Wilder” by Caroline Fraser.
URL:https://www.theoldgallery.org/events-calendar/allenspark-book-club-2-2/2026-08-14/
LOCATION:The Old Gallery\, 14863 Colorado Hwy 7 Allenspark\, CO 80510\, CO\, United States
END:VEVENT
BEGIN:VEVENT
DTSTART;TZID=America/Denver:20260911T160000
DTEND;TZID=America/Denver:20260911T190000
DTSTAMP:20260423T071120
CREATED:20251216T050638Z
LAST-MODIFIED:20251216T051921Z
UID:10002306-1789142400-1789153200@www.theoldgallery.org
SUMMARY:Allenspark Book Club
DESCRIPTION:The Book Club continues to meet now with the regular hours at 4:00pm. \nPlease contact Jen for the latest book selections and meeting locations at jen.jb.bell@gmail.com \nThe current book selection is “Prairie Fires: The American Dreams of Laura Ingalls Wilder” by Caroline Fraser.
URL:https://www.theoldgallery.org/events-calendar/allenspark-book-club-2-2/2026-09-11/
LOCATION:The Old Gallery\, 14863 Colorado Hwy 7 Allenspark\, CO 80510\, CO\, United States
END:VEVENT
BEGIN:VEVENT
DTSTART;TZID=America/Denver:20261009T160000
DTEND;TZID=America/Denver:20261009T190000
DTSTAMP:20260423T071120
CREATED:20251216T050638Z
LAST-MODIFIED:20251216T051921Z
UID:10002307-1791561600-1791572400@www.theoldgallery.org
SUMMARY:Allenspark Book Club
DESCRIPTION:The Book Club continues to meet now with the regular hours at 4:00pm. \nPlease contact Jen for the latest book selections and meeting locations at jen.jb.bell@gmail.com \nThe current book selection is “Prairie Fires: The American Dreams of Laura Ingalls Wilder” by Caroline Fraser.
URL:https://www.theoldgallery.org/events-calendar/allenspark-book-club-2-2/2026-10-09/
LOCATION:The Old Gallery\, 14863 Colorado Hwy 7 Allenspark\, CO 80510\, CO\, United States
END:VEVENT
BEGIN:VEVENT
DTSTART;TZID=America/Denver:20261113T160000
DTEND;TZID=America/Denver:20261113T190000
DTSTAMP:20260423T071120
CREATED:20251216T050638Z
LAST-MODIFIED:20251216T051921Z
UID:10002308-1794585600-1794596400@www.theoldgallery.org
SUMMARY:Allenspark Book Club
DESCRIPTION:The Book Club continues to meet now with the regular hours at 4:00pm. \nPlease contact Jen for the latest book selections and meeting locations at jen.jb.bell@gmail.com \nThe current book selection is “Prairie Fires: The American Dreams of Laura Ingalls Wilder” by Caroline Fraser.
URL:https://www.theoldgallery.org/events-calendar/allenspark-book-club-2-2/2026-11-13/
LOCATION:The Old Gallery\, 14863 Colorado Hwy 7 Allenspark\, CO 80510\, CO\, United States
END:VEVENT
BEGIN:VEVENT
DTSTART;TZID=America/Denver:20261211T160000
DTEND;TZID=America/Denver:20261211T190000
DTSTAMP:20260423T071120
CREATED:20251216T050638Z
LAST-MODIFIED:20251216T051921Z
UID:10002309-1797004800-1797015600@www.theoldgallery.org
SUMMARY:Allenspark Book Club
DESCRIPTION:The Book Club continues to meet now with the regular hours at 4:00pm. \nPlease contact Jen for the latest book selections and meeting locations at jen.jb.bell@gmail.com \nThe current book selection is “Prairie Fires: The American Dreams of Laura Ingalls Wilder” by Caroline Fraser.
URL:https://www.theoldgallery.org/events-calendar/allenspark-book-club-2-2/2026-12-11/
LOCATION:The Old Gallery\, 14863 Colorado Hwy 7 Allenspark\, CO 80510\, CO\, United States
END:VEVENT
END:VCALENDAR