BEGIN:VCALENDAR
VERSION:2.0
PRODID:-//Allenspark Old Gallery - ECPv6.15.20//NONSGML v1.0//EN
CALSCALE:GREGORIAN
METHOD:PUBLISH
X-WR-CALNAME:Allenspark Old Gallery
X-ORIGINAL-URL:https://www.theoldgallery.org
X-WR-CALDESC:Events for Allenspark Old Gallery
REFRESH-INTERVAL;VALUE=DURATION:PT1H
X-Robots-Tag:noindex
X-PUBLISHED-TTL:PT1H
BEGIN:VTIMEZONE
TZID:America/Denver
BEGIN:DAYLIGHT
TZOFFSETFROM:-0700
TZOFFSETTO:-0600
TZNAME:MDT
DTSTART:20250309T090000
END:DAYLIGHT
BEGIN:STANDARD
TZOFFSETFROM:-0600
TZOFFSETTO:-0700
TZNAME:MST
DTSTART:20251102T080000
END:STANDARD
BEGIN:DAYLIGHT
TZOFFSETFROM:-0700
TZOFFSETTO:-0600
TZNAME:MDT
DTSTART:20260308T090000
END:DAYLIGHT
BEGIN:STANDARD
TZOFFSETFROM:-0600
TZOFFSETTO:-0700
TZNAME:MST
DTSTART:20261101T080000
END:STANDARD
BEGIN:DAYLIGHT
TZOFFSETFROM:-0700
TZOFFSETTO:-0600
TZNAME:MDT
DTSTART:20270314T090000
END:DAYLIGHT
BEGIN:STANDARD
TZOFFSETFROM:-0600
TZOFFSETTO:-0700
TZNAME:MST
DTSTART:20271107T080000
END:STANDARD
END:VTIMEZONE
BEGIN:VEVENT
DTSTART;TZID=America/Denver:20260208T163000
DTEND;TZID=America/Denver:20260208T223000
DTSTAMP:20260425T204008
CREATED:20260124T184221Z
LAST-MODIFIED:20260124T184221Z
UID:10002479-1770568200-1770589800@www.theoldgallery.org
SUMMARY:Super Bowl Party
DESCRIPTION:Join us to choose our teams\, grab some snacks\, and settle on the couch for the commercials. Come for the football\, stay for the tasty treats\, and enjoy great company—whether you’re here for the game\, the ads\, or just the good vibes. Bring a friend\, don your team colors (or not)\, and prepare for a laid-back afternoon filled with cheering\, laughter\, and camaraderie as we watch the big game together.\n\nPlease bring some game day snacks to share. The cash bar will be serving drinks.
URL:https://www.theoldgallery.org/events-calendar/super-bowl-party/
LOCATION:The Old Gallery\, 14863 Colorado Hwy 7 Allenspark\, CO 80510\, CO\, United States
ORGANIZER;CN="The Old Gallery":MAILTO:info@theoldgallery.org
END:VEVENT
BEGIN:VEVENT
DTSTART;TZID=America/Denver:20260210T080000
DTEND;TZID=America/Denver:20260210T093000
DTSTAMP:20260425T204008
CREATED:20251216T043951Z
LAST-MODIFIED:20251216T044656Z
UID:10002200-1770710400-1770715800@www.theoldgallery.org
SUMMARY:Tai Chi
DESCRIPTION:Mike Brown will be leading a Free Tai Chi class geared towards the beginner upstairs at The Old Gallery.\n\nTai Chi is a gentle form of exercise that combines slow\, flowing movements with deep breathing and focus. It’s great for improving strength\, balance\, and flexibility – perfect for all ages and fitness levels. This beginner-friendly class will guide you through the basics at a comfortable pace. No experience needed – just wear comfy clothes and come ready to move!\n\n\n\nWhen:  Beginning in June\, every Tuesday and Friday. \nTime: 8:00 am \nPlease contact Mike Brown jongeleur@gmail.com for info on how to join the festivities.
URL:https://www.theoldgallery.org/events-calendar/tai-chi-2/2026-02-10/
LOCATION:The Old Gallery\, 14863 Colorado Hwy 7 Allenspark\, CO 80510\, CO\, United States
ORGANIZER;CN="Mike Brown":MAILTO:jongeleur@gmail.com
END:VEVENT
BEGIN:VEVENT
DTSTART;TZID=America/Denver:20260210T140000
DTEND;TZID=America/Denver:20260210T153000
DTSTAMP:20260425T204008
CREATED:20251208T213646Z
LAST-MODIFIED:20251208T214954Z
UID:10002103-1770732000-1770737400@www.theoldgallery.org
SUMMARY:Video Yoga (Tuesdays)
DESCRIPTION:Peggy Mauerman will be hosting video yoga this winter until Peggy D returns in May. \nDate: Weekly starting Jan. 2nd. Classes are held on both Tuesday at 2pm and Thursday at 9am. \nCost: Donations welcome. \nIf you are interested in attending\, please email Peggy @ peggy.mauerman@gmail.com and get on her email list. \nYou’ll need to provide your own yoga mat.
URL:https://www.theoldgallery.org/events-calendar/video-yoga-with-peggy/2026-02-10/
LOCATION:The Old Gallery\, 14863 Colorado Hwy 7 Allenspark\, CO 80510\, CO\, United States
ORGANIZER;CN="Peggy Mauerman":MAILTO:peggy.mauerman@gmail.com
END:VEVENT
BEGIN:VEVENT
DTSTART;TZID=America/Denver:20260212T090000
DTEND;TZID=America/Denver:20260212T103000
DTSTAMP:20260425T204008
CREATED:20251208T215620Z
LAST-MODIFIED:20251208T215704Z
UID:10002139-1770886800-1770892200@www.theoldgallery.org
SUMMARY:Video Yoga (Thursdays)
DESCRIPTION:Peggy Mauerman will be hosting video yoga this winter until Peggy D returns in May. \nDate: Weekly starting Jan. 2nd. Classes are held on both Tuesday at 2pm and Thursday at 9am. \nCost: Donations welcome. \nIf you are interested in attending\, please email Peggy @ peggy.mauerman@gmail.com and get on her email list. \nYou’ll need to provide your own yoga mat.
URL:https://www.theoldgallery.org/events-calendar/video-yoga-thursdays/2026-02-12/
LOCATION:The Old Gallery\, 14863 Colorado Hwy 7 Allenspark\, CO 80510\, CO\, United States
ORGANIZER;CN="Peggy Mauerman":MAILTO:peggy.mauerman@gmail.com
END:VEVENT
BEGIN:VEVENT
DTSTART;TZID=America/Denver:20260212T120000
DTEND;TZID=America/Denver:20260212T133000
DTSTAMP:20260425T204008
CREATED:20260124T191936Z
LAST-MODIFIED:20260124T191936Z
UID:10002481-1770897600-1770903000@www.theoldgallery.org
SUMMARY:Lunchtime Learning Lecture
DESCRIPTION:We are excited to partner with the Allenspark Community Church Lunch Bunch in hosting Tim Luethke\, Grasslands Restoration Coordinator for the Denver Zoo Conservation Alliance (DZCA). \nTim was recently featured in the Western Landowners Alliance for his leadership in restoring native dung beetle populations alongside the DZCA’s conservation bison herd. Tim will share about this work and how dung beetles and bison can improve grassland conditions for wildlife\, livestock\, and landowners alike. \n\nVenue: The Community Church next to the Post Office\nDate: Thursday\, February 12th at 12pm \nTime: Lunch starts at 12pm\, Tim’s Presentation starts at 12:30 pm\nCost: $10 cash donation\n\nRSVP to Cindy @ (303) 350-7374 or rockettwoman@aol.com by Saturday\, February 7th if you’d like to have Lunch!\n\nNO NEED TO RSVP IF YOU ONLY WANT TO ATTEND THE LECTURE
URL:https://www.theoldgallery.org/events-calendar/lunchtime-learning-lecture/
LOCATION:The Old Gallery\, 14863 Colorado Hwy 7 Allenspark\, CO 80510\, CO\, United States
END:VEVENT
BEGIN:VEVENT
DTSTART;TZID=America/Denver:20260213T080000
DTEND;TZID=America/Denver:20260213T093000
DTSTAMP:20260425T204008
CREATED:20251216T043951Z
LAST-MODIFIED:20251216T044656Z
UID:10002253-1770969600-1770975000@www.theoldgallery.org
SUMMARY:Tai Chi
DESCRIPTION:Mike Brown will be leading a Free Tai Chi class geared towards the beginner upstairs at The Old Gallery.\n\nTai Chi is a gentle form of exercise that combines slow\, flowing movements with deep breathing and focus. It’s great for improving strength\, balance\, and flexibility – perfect for all ages and fitness levels. This beginner-friendly class will guide you through the basics at a comfortable pace. No experience needed – just wear comfy clothes and come ready to move!\n\n\n\nWhen:  Beginning in June\, every Tuesday and Friday. \nTime: 8:00 am \nPlease contact Mike Brown jongeleur@gmail.com for info on how to join the festivities.
URL:https://www.theoldgallery.org/events-calendar/tai-chi-2/2026-02-13/
LOCATION:The Old Gallery\, 14863 Colorado Hwy 7 Allenspark\, CO 80510\, CO\, United States
ORGANIZER;CN="Mike Brown":MAILTO:jongeleur@gmail.com
END:VEVENT
BEGIN:VEVENT
DTSTART;TZID=America/Denver:20260213T160000
DTEND;TZID=America/Denver:20260213T190000
DTSTAMP:20260425T204008
CREATED:20251216T050638Z
LAST-MODIFIED:20251216T051921Z
UID:10002299-1770998400-1771009200@www.theoldgallery.org
SUMMARY:Allenspark Book Club
DESCRIPTION:The Book Club continues to meet now with the regular hours at 4:00pm. \nPlease contact Jen for the latest book selections and meeting locations at jen.jb.bell@gmail.com \nThe current book selection is “Prairie Fires: The American Dreams of Laura Ingalls Wilder” by Caroline Fraser.
URL:https://www.theoldgallery.org/events-calendar/allenspark-book-club-2-2/2026-02-13/
LOCATION:The Old Gallery\, 14863 Colorado Hwy 7 Allenspark\, CO 80510\, CO\, United States
END:VEVENT
BEGIN:VEVENT
DTSTART;TZID=America/Denver:20260214T180000
DTEND;TZID=America/Denver:20260214T200000
DTSTAMP:20260425T204008
CREATED:20260125T093232Z
LAST-MODIFIED:20260125T140411Z
UID:10002483-1771092000-1771099200@www.theoldgallery.org
SUMMARY:Valentines Dinner
DESCRIPTION:This Valentine’s Day\, we’re skipping the pressure and leaning into what really matters: great food\, great people\, and a great excuse to get out for the evening. Join us for a cozy\, community-centered Valentine’s Day Supper – served up Italian style.\nYour evening will include a delicious Italian-themed meal with an appetizer\, supper\, dessert\, and a drink – because every good night deserves to start and end well. Come hungry and ready to linger. And bonus! you don’t have to drive all the way to Estes and fight for a reservation.\nCouples\, singles\, friends\, and neighbors are all welcome. Whether you’re celebrating love\, friendship\, or simply your love of good Italian food\, this is a no-pressure\, all-fun kind of night. Expect laughter\, conversation\, and the kind of shared table that makes Valentine’s Day feel easy and enjoyable.\n\n\n\n\n\nTickets for $25 each must be purchased by Monday\, Feb 9th!\n\n  
URL:https://www.theoldgallery.org/events-calendar/valentines-dinner/
LOCATION:The Old Gallery\, 14863 Colorado Hwy 7 Allenspark\, CO 80510\, CO\, United States
ORGANIZER;CN="The Old Gallery":MAILTO:info@theoldgallery.org
END:VEVENT
END:VCALENDAR