BEGIN:VCALENDAR
VERSION:2.0
PRODID:-//Allenspark Old Gallery - ECPv6.15.20//NONSGML v1.0//EN
CALSCALE:GREGORIAN
METHOD:PUBLISH
X-ORIGINAL-URL:https://www.theoldgallery.org
X-WR-CALDESC:Events for Allenspark Old Gallery
REFRESH-INTERVAL;VALUE=DURATION:PT1H
X-Robots-Tag:noindex
X-PUBLISHED-TTL:PT1H
BEGIN:VTIMEZONE
TZID:America/Denver
BEGIN:DAYLIGHT
TZOFFSETFROM:-0700
TZOFFSETTO:-0600
TZNAME:MDT
DTSTART:20250309T090000
END:DAYLIGHT
BEGIN:STANDARD
TZOFFSETFROM:-0600
TZOFFSETTO:-0700
TZNAME:MST
DTSTART:20251102T080000
END:STANDARD
BEGIN:DAYLIGHT
TZOFFSETFROM:-0700
TZOFFSETTO:-0600
TZNAME:MDT
DTSTART:20260308T090000
END:DAYLIGHT
BEGIN:STANDARD
TZOFFSETFROM:-0600
TZOFFSETTO:-0700
TZNAME:MST
DTSTART:20261101T080000
END:STANDARD
BEGIN:DAYLIGHT
TZOFFSETFROM:-0700
TZOFFSETTO:-0600
TZNAME:MDT
DTSTART:20270314T090000
END:DAYLIGHT
BEGIN:STANDARD
TZOFFSETFROM:-0600
TZOFFSETTO:-0700
TZNAME:MST
DTSTART:20271107T080000
END:STANDARD
END:VTIMEZONE
BEGIN:VEVENT
DTSTART;TZID=America/Denver:20260217T080000
DTEND;TZID=America/Denver:20260217T093000
DTSTAMP:20260425T200108
CREATED:20251216T043951Z
LAST-MODIFIED:20251216T044656Z
UID:10002201-1771315200-1771320600@www.theoldgallery.org
SUMMARY:Tai Chi
DESCRIPTION:Mike Brown will be leading a Free Tai Chi class geared towards the beginner upstairs at The Old Gallery.\n\nTai Chi is a gentle form of exercise that combines slow\, flowing movements with deep breathing and focus. It’s great for improving strength\, balance\, and flexibility – perfect for all ages and fitness levels. This beginner-friendly class will guide you through the basics at a comfortable pace. No experience needed – just wear comfy clothes and come ready to move!\n\n\n\nWhen:  Beginning in June\, every Tuesday and Friday. \nTime: 8:00 am \nPlease contact Mike Brown jongeleur@gmail.com for info on how to join the festivities.
URL:https://www.theoldgallery.org/events-calendar/tai-chi-2/2026-02-17/
LOCATION:The Old Gallery\, 14863 Colorado Hwy 7 Allenspark\, CO 80510\, CO\, United States
ORGANIZER;CN="Mike Brown":MAILTO:jongeleur@gmail.com
END:VEVENT
BEGIN:VEVENT
DTSTART;TZID=America/Denver:20260217T140000
DTEND;TZID=America/Denver:20260217T153000
DTSTAMP:20260425T200108
CREATED:20251208T213646Z
LAST-MODIFIED:20251208T214954Z
UID:10002104-1771336800-1771342200@www.theoldgallery.org
SUMMARY:Video Yoga (Tuesdays)
DESCRIPTION:Peggy Mauerman will be hosting video yoga this winter until Peggy D returns in May. \nDate: Weekly starting Jan. 2nd. Classes are held on both Tuesday at 2pm and Thursday at 9am. \nCost: Donations welcome. \nIf you are interested in attending\, please email Peggy @ peggy.mauerman@gmail.com and get on her email list. \nYou’ll need to provide your own yoga mat.
URL:https://www.theoldgallery.org/events-calendar/video-yoga-with-peggy/2026-02-17/
LOCATION:The Old Gallery\, 14863 Colorado Hwy 7 Allenspark\, CO 80510\, CO\, United States
ORGANIZER;CN="Peggy Mauerman":MAILTO:peggy.mauerman@gmail.com
END:VEVENT
BEGIN:VEVENT
DTSTART;TZID=America/Denver:20260218T140000
DTEND;TZID=America/Denver:20260218T153000
DTSTAMP:20260425T200108
CREATED:20251220T020417Z
LAST-MODIFIED:20251220T144619Z
UID:10002333-1771423200-1771428600@www.theoldgallery.org
SUMMARY:Community Food Bank
DESCRIPTION:Community Food Bank
URL:https://www.theoldgallery.org/events-calendar/community-food-bank-2023-08-02-2-2/2026-02-18/
LOCATION:The Old Gallery\, 14863 Colorado Hwy 7 Allenspark\, CO 80510\, CO\, United States
ORGANIZER;CN="Peggy Mauerman":MAILTO:peggy.mauerman@gmail.com
END:VEVENT
BEGIN:VEVENT
DTSTART;TZID=America/Denver:20260219T090000
DTEND;TZID=America/Denver:20260219T103000
DTSTAMP:20260425T200108
CREATED:20251208T215620Z
LAST-MODIFIED:20251208T215704Z
UID:10002140-1771491600-1771497000@www.theoldgallery.org
SUMMARY:Video Yoga (Thursdays)
DESCRIPTION:Peggy Mauerman will be hosting video yoga this winter until Peggy D returns in May. \nDate: Weekly starting Jan. 2nd. Classes are held on both Tuesday at 2pm and Thursday at 9am. \nCost: Donations welcome. \nIf you are interested in attending\, please email Peggy @ peggy.mauerman@gmail.com and get on her email list. \nYou’ll need to provide your own yoga mat.
URL:https://www.theoldgallery.org/events-calendar/video-yoga-thursdays/2026-02-19/
LOCATION:The Old Gallery\, 14863 Colorado Hwy 7 Allenspark\, CO 80510\, CO\, United States
ORGANIZER;CN="Peggy Mauerman":MAILTO:peggy.mauerman@gmail.com
END:VEVENT
BEGIN:VEVENT
DTSTART;TZID=America/Denver:20260220T080000
DTEND;TZID=America/Denver:20260220T093000
DTSTAMP:20260425T200108
CREATED:20251216T043951Z
LAST-MODIFIED:20251216T044656Z
UID:10002254-1771574400-1771579800@www.theoldgallery.org
SUMMARY:Tai Chi
DESCRIPTION:Mike Brown will be leading a Free Tai Chi class geared towards the beginner upstairs at The Old Gallery.\n\nTai Chi is a gentle form of exercise that combines slow\, flowing movements with deep breathing and focus. It’s great for improving strength\, balance\, and flexibility – perfect for all ages and fitness levels. This beginner-friendly class will guide you through the basics at a comfortable pace. No experience needed – just wear comfy clothes and come ready to move!\n\n\n\nWhen:  Beginning in June\, every Tuesday and Friday. \nTime: 8:00 am \nPlease contact Mike Brown jongeleur@gmail.com for info on how to join the festivities.
URL:https://www.theoldgallery.org/events-calendar/tai-chi-2/2026-02-20/
LOCATION:The Old Gallery\, 14863 Colorado Hwy 7 Allenspark\, CO 80510\, CO\, United States
ORGANIZER;CN="Mike Brown":MAILTO:jongeleur@gmail.com
END:VEVENT
BEGIN:VEVENT
DTSTART;TZID=America/Denver:20260221T130000
DTEND;TZID=America/Denver:20260221T150000
DTSTAMP:20260425T200108
CREATED:20260125T102840Z
LAST-MODIFIED:20260125T102840Z
UID:10002484-1771678800-1771686000@www.theoldgallery.org
SUMMARY:Pet Craft Workshop
DESCRIPTION:Get ready to craft for the creatures who bring us the most joy (and fur). Join us at The Old Gallery for a Pet Toy Crafting Workshop where we’ll be making fun\, engaging toys and enrichment items designed to keep your pets curious\, busy\, and mentally stimulated.\n\nThis hands-on workshop is all about creating simple\, creative projects that help beat boredom and keep tails wagging and whiskers twitching. Whether your pet is a puzzle-lover\, a shredder\, or just needs a little extra brain workout\, you’ll leave with something made with love. \nNo crafting experience needed\, just a fondness for pets and a willingness to get a little creative. Your pets may not be able to attend\, but they’ll definitely reap the benefits once you get home. Save up and bring your empty toilet paper and paper towel tubes. \n\nPlease RSVP to karen@theoldgallery.org so we have enough supplies on hand.
URL:https://www.theoldgallery.org/events-calendar/pet-craft-workshop/
LOCATION:The Old Gallery\, 14863 Colorado Hwy 7 Allenspark\, CO 80510\, CO\, United States
ORGANIZER;CN="Karen Owens":MAILTO:Karen@theoldgallery.org
END:VEVENT
END:VCALENDAR