BEGIN:VCALENDAR
VERSION:2.0
PRODID:-//Allenspark Old Gallery - ECPv6.15.20//NONSGML v1.0//EN
CALSCALE:GREGORIAN
METHOD:PUBLISH
X-WR-CALNAME:Allenspark Old Gallery
X-ORIGINAL-URL:https://www.theoldgallery.org
X-WR-CALDESC:Events for Allenspark Old Gallery
REFRESH-INTERVAL;VALUE=DURATION:PT1H
X-Robots-Tag:noindex
X-PUBLISHED-TTL:PT1H
BEGIN:VTIMEZONE
TZID:America/Denver
BEGIN:DAYLIGHT
TZOFFSETFROM:-0700
TZOFFSETTO:-0600
TZNAME:MDT
DTSTART:20250309T090000
END:DAYLIGHT
BEGIN:STANDARD
TZOFFSETFROM:-0600
TZOFFSETTO:-0700
TZNAME:MST
DTSTART:20251102T080000
END:STANDARD
BEGIN:DAYLIGHT
TZOFFSETFROM:-0700
TZOFFSETTO:-0600
TZNAME:MDT
DTSTART:20260308T090000
END:DAYLIGHT
BEGIN:STANDARD
TZOFFSETFROM:-0600
TZOFFSETTO:-0700
TZNAME:MST
DTSTART:20261101T080000
END:STANDARD
BEGIN:DAYLIGHT
TZOFFSETFROM:-0700
TZOFFSETTO:-0600
TZNAME:MDT
DTSTART:20270314T090000
END:DAYLIGHT
BEGIN:STANDARD
TZOFFSETFROM:-0600
TZOFFSETTO:-0700
TZNAME:MST
DTSTART:20271107T080000
END:STANDARD
END:VTIMEZONE
BEGIN:VEVENT
DTSTART;TZID=America/Denver:20260317T080000
DTEND;TZID=America/Denver:20260317T093000
DTSTAMP:20260425T100731
CREATED:20251216T043951Z
LAST-MODIFIED:20251216T044656Z
UID:10002205-1773734400-1773739800@www.theoldgallery.org
SUMMARY:Tai Chi
DESCRIPTION:Mike Brown will be leading a Free Tai Chi class geared towards the beginner upstairs at The Old Gallery.\n\nTai Chi is a gentle form of exercise that combines slow\, flowing movements with deep breathing and focus. It’s great for improving strength\, balance\, and flexibility – perfect for all ages and fitness levels. This beginner-friendly class will guide you through the basics at a comfortable pace. No experience needed – just wear comfy clothes and come ready to move!\n\n\n\nWhen:  Beginning in June\, every Tuesday and Friday. \nTime: 8:00 am \nPlease contact Mike Brown jongeleur@gmail.com for info on how to join the festivities.
URL:https://www.theoldgallery.org/events-calendar/tai-chi-2/2026-03-17/
LOCATION:The Old Gallery\, 14863 Colorado Hwy 7 Allenspark\, CO 80510\, CO\, United States
ORGANIZER;CN="Mike Brown":MAILTO:jongeleur@gmail.com
END:VEVENT
BEGIN:VEVENT
DTSTART;TZID=America/Denver:20260317T140000
DTEND;TZID=America/Denver:20260317T153000
DTSTAMP:20260425T100731
CREATED:20251208T213646Z
LAST-MODIFIED:20251208T214954Z
UID:10002108-1773756000-1773761400@www.theoldgallery.org
SUMMARY:Video Yoga (Tuesdays)
DESCRIPTION:Peggy Mauerman will be hosting video yoga this winter until Peggy D returns in May. \nDate: Weekly starting Jan. 2nd. Classes are held on both Tuesday at 2pm and Thursday at 9am. \nCost: Donations welcome. \nIf you are interested in attending\, please email Peggy @ peggy.mauerman@gmail.com and get on her email list. \nYou’ll need to provide your own yoga mat.
URL:https://www.theoldgallery.org/events-calendar/video-yoga-with-peggy/2026-03-17/
LOCATION:The Old Gallery\, 14863 Colorado Hwy 7 Allenspark\, CO 80510\, CO\, United States
ORGANIZER;CN="Peggy Mauerman":MAILTO:peggy.mauerman@gmail.com
END:VEVENT
BEGIN:VEVENT
DTSTART;TZID=America/Denver:20260318T140000
DTEND;TZID=America/Denver:20260318T153000
DTSTAMP:20260425T100731
CREATED:20251220T020417Z
LAST-MODIFIED:20251220T144619Z
UID:10002334-1773842400-1773847800@www.theoldgallery.org
SUMMARY:Community Food Bank
DESCRIPTION:Community Food Bank
URL:https://www.theoldgallery.org/events-calendar/community-food-bank-2023-08-02-2-2/2026-03-18/
LOCATION:The Old Gallery\, 14863 Colorado Hwy 7 Allenspark\, CO 80510\, CO\, United States
ORGANIZER;CN="Peggy Mauerman":MAILTO:peggy.mauerman@gmail.com
END:VEVENT
BEGIN:VEVENT
DTSTART;TZID=America/Denver:20260319T090000
DTEND;TZID=America/Denver:20260319T103000
DTSTAMP:20260425T100731
CREATED:20251208T215620Z
LAST-MODIFIED:20251208T215704Z
UID:10002144-1773910800-1773916200@www.theoldgallery.org
SUMMARY:Video Yoga (Thursdays)
DESCRIPTION:Peggy Mauerman will be hosting video yoga this winter until Peggy D returns in May. \nDate: Weekly starting Jan. 2nd. Classes are held on both Tuesday at 2pm and Thursday at 9am. \nCost: Donations welcome. \nIf you are interested in attending\, please email Peggy @ peggy.mauerman@gmail.com and get on her email list. \nYou’ll need to provide your own yoga mat.
URL:https://www.theoldgallery.org/events-calendar/video-yoga-thursdays/2026-03-19/
LOCATION:The Old Gallery\, 14863 Colorado Hwy 7 Allenspark\, CO 80510\, CO\, United States
ORGANIZER;CN="Peggy Mauerman":MAILTO:peggy.mauerman@gmail.com
END:VEVENT
BEGIN:VEVENT
DTSTART;TZID=America/Denver:20260320T080000
DTEND;TZID=America/Denver:20260320T093000
DTSTAMP:20260425T100731
CREATED:20251216T043951Z
LAST-MODIFIED:20251216T044656Z
UID:10002258-1773993600-1773999000@www.theoldgallery.org
SUMMARY:Tai Chi
DESCRIPTION:Mike Brown will be leading a Free Tai Chi class geared towards the beginner upstairs at The Old Gallery.\n\nTai Chi is a gentle form of exercise that combines slow\, flowing movements with deep breathing and focus. It’s great for improving strength\, balance\, and flexibility – perfect for all ages and fitness levels. This beginner-friendly class will guide you through the basics at a comfortable pace. No experience needed – just wear comfy clothes and come ready to move!\n\n\n\nWhen:  Beginning in June\, every Tuesday and Friday. \nTime: 8:00 am \nPlease contact Mike Brown jongeleur@gmail.com for info on how to join the festivities.
URL:https://www.theoldgallery.org/events-calendar/tai-chi-2/2026-03-20/
LOCATION:The Old Gallery\, 14863 Colorado Hwy 7 Allenspark\, CO 80510\, CO\, United States
ORGANIZER;CN="Mike Brown":MAILTO:jongeleur@gmail.com
END:VEVENT
BEGIN:VEVENT
DTSTART;TZID=America/Denver:20260321T180000
DTEND;TZID=America/Denver:20260321T210000
DTSTAMP:20260425T100731
CREATED:20260124T182846Z
LAST-MODIFIED:20260322T163933Z
UID:10002537-1774116000-1774126800@www.theoldgallery.org
SUMMARY:Game Night
DESCRIPTION:Game Night is rolling into The Old Gallery and it’s time to let the friendly rivalries begin! We’ll have classics like dominoes\, Uno\, Jenga\, and more ready to go\, but feel free to bring your favorite game from home too. It’s the perfect excuse to escape the couch\, challenge your neighbors to some lighthearted competition\, and laugh your way through a winter evening. All skill levels welcome – bragging rights optional.
URL:https://www.theoldgallery.org/events-calendar/game-night/2026-03-21/
LOCATION:The Old Gallery\, 14863 Colorado Hwy 7 Allenspark\, CO 80510\, CO\, United States
ORGANIZER;CN="The Old Gallery":MAILTO:info@theoldgallery.org
END:VEVENT
END:VCALENDAR