BEGIN:VCALENDAR
VERSION:2.0
PRODID:-//Allenspark Old Gallery - ECPv6.15.20//NONSGML v1.0//EN
CALSCALE:GREGORIAN
METHOD:PUBLISH
X-WR-CALNAME:Allenspark Old Gallery
X-ORIGINAL-URL:https://www.theoldgallery.org
X-WR-CALDESC:Events for Allenspark Old Gallery
REFRESH-INTERVAL;VALUE=DURATION:PT1H
X-Robots-Tag:noindex
X-PUBLISHED-TTL:PT1H
BEGIN:VTIMEZONE
TZID:America/Denver
BEGIN:DAYLIGHT
TZOFFSETFROM:-0700
TZOFFSETTO:-0600
TZNAME:MDT
DTSTART:20250309T090000
END:DAYLIGHT
BEGIN:STANDARD
TZOFFSETFROM:-0600
TZOFFSETTO:-0700
TZNAME:MST
DTSTART:20251102T080000
END:STANDARD
BEGIN:DAYLIGHT
TZOFFSETFROM:-0700
TZOFFSETTO:-0600
TZNAME:MDT
DTSTART:20260308T090000
END:DAYLIGHT
BEGIN:STANDARD
TZOFFSETFROM:-0600
TZOFFSETTO:-0700
TZNAME:MST
DTSTART:20261101T080000
END:STANDARD
BEGIN:DAYLIGHT
TZOFFSETFROM:-0700
TZOFFSETTO:-0600
TZNAME:MDT
DTSTART:20270314T090000
END:DAYLIGHT
BEGIN:STANDARD
TZOFFSETFROM:-0600
TZOFFSETTO:-0700
TZNAME:MST
DTSTART:20271107T080000
END:STANDARD
END:VTIMEZONE
BEGIN:VEVENT
DTSTART;TZID=America/Denver:20260414T080000
DTEND;TZID=America/Denver:20260414T093000
DTSTAMP:20260425T085347
CREATED:20251216T043951Z
LAST-MODIFIED:20251216T044656Z
UID:10002209-1776153600-1776159000@www.theoldgallery.org
SUMMARY:Tai Chi
DESCRIPTION:Mike Brown will be leading a Free Tai Chi class geared towards the beginner upstairs at The Old Gallery.\n\nTai Chi is a gentle form of exercise that combines slow\, flowing movements with deep breathing and focus. It’s great for improving strength\, balance\, and flexibility – perfect for all ages and fitness levels. This beginner-friendly class will guide you through the basics at a comfortable pace. No experience needed – just wear comfy clothes and come ready to move!\n\n\n\nWhen:  Beginning in June\, every Tuesday and Friday. \nTime: 8:00 am \nPlease contact Mike Brown jongeleur@gmail.com for info on how to join the festivities.
URL:https://www.theoldgallery.org/events-calendar/tai-chi-2/2026-04-14/
LOCATION:The Old Gallery\, 14863 Colorado Hwy 7 Allenspark\, CO 80510\, CO\, United States
ORGANIZER;CN="Mike Brown":MAILTO:jongeleur@gmail.com
END:VEVENT
BEGIN:VEVENT
DTSTART;TZID=America/Denver:20260414T140000
DTEND;TZID=America/Denver:20260414T153000
DTSTAMP:20260425T085347
CREATED:20251208T213646Z
LAST-MODIFIED:20251208T214954Z
UID:10002112-1776175200-1776180600@www.theoldgallery.org
SUMMARY:Video Yoga (Tuesdays)
DESCRIPTION:Peggy Mauerman will be hosting video yoga this winter until Peggy D returns in May. \nDate: Weekly starting Jan. 2nd. Classes are held on both Tuesday at 2pm and Thursday at 9am. \nCost: Donations welcome. \nIf you are interested in attending\, please email Peggy @ peggy.mauerman@gmail.com and get on her email list. \nYou’ll need to provide your own yoga mat.
URL:https://www.theoldgallery.org/events-calendar/video-yoga-with-peggy/2026-04-14/
LOCATION:The Old Gallery\, 14863 Colorado Hwy 7 Allenspark\, CO 80510\, CO\, United States
ORGANIZER;CN="Peggy Mauerman":MAILTO:peggy.mauerman@gmail.com
END:VEVENT
BEGIN:VEVENT
DTSTART;TZID=America/Denver:20260415T140000
DTEND;TZID=America/Denver:20260415T153000
DTSTAMP:20260425T085347
CREATED:20251220T020417Z
LAST-MODIFIED:20251220T144619Z
UID:10002335-1776261600-1776267000@www.theoldgallery.org
SUMMARY:Community Food Bank
DESCRIPTION:Community Food Bank
URL:https://www.theoldgallery.org/events-calendar/community-food-bank-2023-08-02-2-2/2026-04-15/
LOCATION:The Old Gallery\, 14863 Colorado Hwy 7 Allenspark\, CO 80510\, CO\, United States
ORGANIZER;CN="Peggy Mauerman":MAILTO:peggy.mauerman@gmail.com
END:VEVENT
BEGIN:VEVENT
DTSTART;TZID=America/Denver:20260416T090000
DTEND;TZID=America/Denver:20260416T103000
DTSTAMP:20260425T085347
CREATED:20251208T215620Z
LAST-MODIFIED:20251208T215704Z
UID:10002148-1776330000-1776335400@www.theoldgallery.org
SUMMARY:Video Yoga (Thursdays)
DESCRIPTION:Peggy Mauerman will be hosting video yoga this winter until Peggy D returns in May. \nDate: Weekly starting Jan. 2nd. Classes are held on both Tuesday at 2pm and Thursday at 9am. \nCost: Donations welcome. \nIf you are interested in attending\, please email Peggy @ peggy.mauerman@gmail.com and get on her email list. \nYou’ll need to provide your own yoga mat.
URL:https://www.theoldgallery.org/events-calendar/video-yoga-thursdays/2026-04-16/
LOCATION:The Old Gallery\, 14863 Colorado Hwy 7 Allenspark\, CO 80510\, CO\, United States
ORGANIZER;CN="Peggy Mauerman":MAILTO:peggy.mauerman@gmail.com
END:VEVENT
BEGIN:VEVENT
DTSTART;TZID=America/Denver:20260417T080000
DTEND;TZID=America/Denver:20260417T093000
DTSTAMP:20260425T085347
CREATED:20251216T043951Z
LAST-MODIFIED:20251216T044656Z
UID:10002262-1776412800-1776418200@www.theoldgallery.org
SUMMARY:Tai Chi
DESCRIPTION:Mike Brown will be leading a Free Tai Chi class geared towards the beginner upstairs at The Old Gallery.\n\nTai Chi is a gentle form of exercise that combines slow\, flowing movements with deep breathing and focus. It’s great for improving strength\, balance\, and flexibility – perfect for all ages and fitness levels. This beginner-friendly class will guide you through the basics at a comfortable pace. No experience needed – just wear comfy clothes and come ready to move!\n\n\n\nWhen:  Beginning in June\, every Tuesday and Friday. \nTime: 8:00 am \nPlease contact Mike Brown jongeleur@gmail.com for info on how to join the festivities.
URL:https://www.theoldgallery.org/events-calendar/tai-chi-2/2026-04-17/
LOCATION:The Old Gallery\, 14863 Colorado Hwy 7 Allenspark\, CO 80510\, CO\, United States
ORGANIZER;CN="Mike Brown":MAILTO:jongeleur@gmail.com
END:VEVENT
BEGIN:VEVENT
DTSTART;TZID=America/Denver:20260417T183000
DTEND;TZID=America/Denver:20260417T203000
DTSTAMP:20260425T085347
CREATED:20260325T024551Z
LAST-MODIFIED:20260325T024551Z
UID:10002625-1776450600-1776457800@www.theoldgallery.org
SUMMARY:Open Mic Night
DESCRIPTION:Step into the spotlight at our Open Mic Nights at the Gallery! Whether you sing\, strum\, read poetry\, share a story\, perform with a group\, or simply come to cheer on the talent in the room\, everyone is welcome for a fun and creative night out. Bring your voice\, your friends\, and your favorite applause – it’s a wonderful chance to celebrate local talent\, share something special\, and enjoy a great evening together at the Gallery.
URL:https://www.theoldgallery.org/events-calendar/open-mic-night/2026-04-17/
LOCATION:The Old Gallery\, 14863 Colorado Hwy 7 Allenspark\, CO 80510\, CO\, United States
END:VEVENT
BEGIN:VEVENT
DTSTART;TZID=America/Denver:20260418T160000
DTEND;TZID=America/Denver:20260418T170000
DTSTAMP:20260425T085347
CREATED:20260325T021010Z
LAST-MODIFIED:20260325T021010Z
UID:10002624-1776528000-1776531600@www.theoldgallery.org
SUMMARY:Cocktail Hour
DESCRIPTION:
URL:https://www.theoldgallery.org/events-calendar/cocktail-hour/
LOCATION:The Old Gallery\, 14863 Colorado Hwy 7 Allenspark\, CO 80510\, CO\, United States
END:VEVENT
END:VCALENDAR