BEGIN:VCALENDAR
VERSION:2.0
PRODID:-//Allenspark Old Gallery - ECPv6.15.20//NONSGML v1.0//EN
CALSCALE:GREGORIAN
METHOD:PUBLISH
X-ORIGINAL-URL:https://www.theoldgallery.org
X-WR-CALDESC:Events for Allenspark Old Gallery
REFRESH-INTERVAL;VALUE=DURATION:PT1H
X-Robots-Tag:noindex
X-PUBLISHED-TTL:PT1H
BEGIN:VTIMEZONE
TZID:America/Denver
BEGIN:DAYLIGHT
TZOFFSETFROM:-0700
TZOFFSETTO:-0600
TZNAME:MDT
DTSTART:20250309T090000
END:DAYLIGHT
BEGIN:STANDARD
TZOFFSETFROM:-0600
TZOFFSETTO:-0700
TZNAME:MST
DTSTART:20251102T080000
END:STANDARD
BEGIN:DAYLIGHT
TZOFFSETFROM:-0700
TZOFFSETTO:-0600
TZNAME:MDT
DTSTART:20260308T090000
END:DAYLIGHT
BEGIN:STANDARD
TZOFFSETFROM:-0600
TZOFFSETTO:-0700
TZNAME:MST
DTSTART:20261101T080000
END:STANDARD
BEGIN:DAYLIGHT
TZOFFSETFROM:-0700
TZOFFSETTO:-0600
TZNAME:MDT
DTSTART:20270314T090000
END:DAYLIGHT
BEGIN:STANDARD
TZOFFSETFROM:-0600
TZOFFSETTO:-0700
TZNAME:MST
DTSTART:20271107T080000
END:STANDARD
END:VTIMEZONE
BEGIN:VEVENT
DTSTART;TZID=America/Denver:20260428T080000
DTEND;TZID=America/Denver:20260428T093000
DTSTAMP:20260425T062335
CREATED:20251216T043951Z
LAST-MODIFIED:20251216T044656Z
UID:10002211-1777363200-1777368600@www.theoldgallery.org
SUMMARY:Tai Chi
DESCRIPTION:Mike Brown will be leading a Free Tai Chi class geared towards the beginner upstairs at The Old Gallery.\n\nTai Chi is a gentle form of exercise that combines slow\, flowing movements with deep breathing and focus. It’s great for improving strength\, balance\, and flexibility – perfect for all ages and fitness levels. This beginner-friendly class will guide you through the basics at a comfortable pace. No experience needed – just wear comfy clothes and come ready to move!\n\n\n\nWhen:  Beginning in June\, every Tuesday and Friday. \nTime: 8:00 am \nPlease contact Mike Brown jongeleur@gmail.com for info on how to join the festivities.
URL:https://www.theoldgallery.org/events-calendar/tai-chi-2/2026-04-28/
LOCATION:The Old Gallery\, 14863 Colorado Hwy 7 Allenspark\, CO 80510\, CO\, United States
ORGANIZER;CN="Mike Brown":MAILTO:jongeleur@gmail.com
END:VEVENT
BEGIN:VEVENT
DTSTART;TZID=America/Denver:20260428T140000
DTEND;TZID=America/Denver:20260428T153000
DTSTAMP:20260425T062335
CREATED:20251208T213646Z
LAST-MODIFIED:20251208T214954Z
UID:10002114-1777384800-1777390200@www.theoldgallery.org
SUMMARY:Video Yoga (Tuesdays)
DESCRIPTION:Peggy Mauerman will be hosting video yoga this winter until Peggy D returns in May. \nDate: Weekly starting Jan. 2nd. Classes are held on both Tuesday at 2pm and Thursday at 9am. \nCost: Donations welcome. \nIf you are interested in attending\, please email Peggy @ peggy.mauerman@gmail.com and get on her email list. \nYou’ll need to provide your own yoga mat.
URL:https://www.theoldgallery.org/events-calendar/video-yoga-with-peggy/2026-04-28/
LOCATION:The Old Gallery\, 14863 Colorado Hwy 7 Allenspark\, CO 80510\, CO\, United States
ORGANIZER;CN="Peggy Mauerman":MAILTO:peggy.mauerman@gmail.com
END:VEVENT
BEGIN:VEVENT
DTSTART;TZID=America/Denver:20260430T090000
DTEND;TZID=America/Denver:20260430T103000
DTSTAMP:20260425T062335
CREATED:20251208T215620Z
LAST-MODIFIED:20251208T215704Z
UID:10002150-1777539600-1777545000@www.theoldgallery.org
SUMMARY:Video Yoga (Thursdays)
DESCRIPTION:Peggy Mauerman will be hosting video yoga this winter until Peggy D returns in May. \nDate: Weekly starting Jan. 2nd. Classes are held on both Tuesday at 2pm and Thursday at 9am. \nCost: Donations welcome. \nIf you are interested in attending\, please email Peggy @ peggy.mauerman@gmail.com and get on her email list. \nYou’ll need to provide your own yoga mat.
URL:https://www.theoldgallery.org/events-calendar/video-yoga-thursdays/2026-04-30/
LOCATION:The Old Gallery\, 14863 Colorado Hwy 7 Allenspark\, CO 80510\, CO\, United States
ORGANIZER;CN="Peggy Mauerman":MAILTO:peggy.mauerman@gmail.com
END:VEVENT
BEGIN:VEVENT
DTSTART;TZID=America/Denver:20260501T080000
DTEND;TZID=America/Denver:20260501T093000
DTSTAMP:20260425T062335
CREATED:20251216T043951Z
LAST-MODIFIED:20251216T044656Z
UID:10002264-1777622400-1777627800@www.theoldgallery.org
SUMMARY:Tai Chi
DESCRIPTION:Mike Brown will be leading a Free Tai Chi class geared towards the beginner upstairs at The Old Gallery.\n\nTai Chi is a gentle form of exercise that combines slow\, flowing movements with deep breathing and focus. It’s great for improving strength\, balance\, and flexibility – perfect for all ages and fitness levels. This beginner-friendly class will guide you through the basics at a comfortable pace. No experience needed – just wear comfy clothes and come ready to move!\n\n\n\nWhen:  Beginning in June\, every Tuesday and Friday. \nTime: 8:00 am \nPlease contact Mike Brown jongeleur@gmail.com for info on how to join the festivities.
URL:https://www.theoldgallery.org/events-calendar/tai-chi-2/2026-05-01/
LOCATION:The Old Gallery\, 14863 Colorado Hwy 7 Allenspark\, CO 80510\, CO\, United States
ORGANIZER;CN="Mike Brown":MAILTO:jongeleur@gmail.com
END:VEVENT
BEGIN:VEVENT
DTSTART;VALUE=DATE:20260502
DTEND;VALUE=DATE:20260503
DTSTAMP:20260425T062335
CREATED:20260302T005512Z
LAST-MODIFIED:20260302T010400Z
UID:10002564-1777680000-1777766399@www.theoldgallery.org
SUMMARY:Duck Race 2026
DESCRIPTION:Adopt a racing duck for $25 and cheer it on as it makes a splash\, all while supporting The Old Gallery. Or grab a Quack Pack and get 6 ducks for the price of 5 for more chances to win! \nThe best part? $23 of every ticket goes directly to The Old Gallery and the programs that serve our community. It’s an easy\, playful way to make a real impact – so grab your lucky duck and let’s get ready to race! \nNeed more incentive? The Grand Prize is $10\,000! Every duck has a shot at some great prizes and supports The Old Gallery at the same time! So be cool and tap on the duck and get in the race
URL:https://www.theoldgallery.org/events-calendar/duck-race-2026/
LOCATION:Estes Park\, Estes Park\, United States
END:VEVENT
END:VCALENDAR