BEGIN:VCALENDAR
VERSION:2.0
PRODID:-//Allenspark Old Gallery - ECPv6.15.20//NONSGML v1.0//EN
CALSCALE:GREGORIAN
METHOD:PUBLISH
X-WR-CALNAME:Allenspark Old Gallery
X-ORIGINAL-URL:https://www.theoldgallery.org
X-WR-CALDESC:Events for Allenspark Old Gallery
REFRESH-INTERVAL;VALUE=DURATION:PT1H
X-Robots-Tag:noindex
X-PUBLISHED-TTL:PT1H
BEGIN:VTIMEZONE
TZID:America/Denver
BEGIN:DAYLIGHT
TZOFFSETFROM:-0700
TZOFFSETTO:-0600
TZNAME:MDT
DTSTART:20250309T090000
END:DAYLIGHT
BEGIN:STANDARD
TZOFFSETFROM:-0600
TZOFFSETTO:-0700
TZNAME:MST
DTSTART:20251102T080000
END:STANDARD
BEGIN:DAYLIGHT
TZOFFSETFROM:-0700
TZOFFSETTO:-0600
TZNAME:MDT
DTSTART:20260308T090000
END:DAYLIGHT
BEGIN:STANDARD
TZOFFSETFROM:-0600
TZOFFSETTO:-0700
TZNAME:MST
DTSTART:20261101T080000
END:STANDARD
BEGIN:DAYLIGHT
TZOFFSETFROM:-0700
TZOFFSETTO:-0600
TZNAME:MDT
DTSTART:20270314T090000
END:DAYLIGHT
BEGIN:STANDARD
TZOFFSETFROM:-0600
TZOFFSETTO:-0700
TZNAME:MST
DTSTART:20271107T080000
END:STANDARD
END:VTIMEZONE
BEGIN:VEVENT
DTSTART;TZID=America/Denver:20260510T203000
DTEND;TZID=America/Denver:20260510T223000
DTSTAMP:20260425T045146
CREATED:20251223T034210Z
LAST-MODIFIED:20260324T195646Z
UID:10002619-1778445000-1778452200@www.theoldgallery.org
SUMMARY:Mountain Skies Astronomy
DESCRIPTION:We invite you to stargaze from the back porch of The Old Gallery. \nLeslie is back and invites you to stargaze from the back porch of the Gallery.\n\nThis casual gathering will be a chance to explore our night sky and learn some interesting facts. Please come prepared with extra layers (it gets chilly in the mountains when the sun goes down) and a blanket if you want to lay back and gaze at the stars. You are welcome to bring binoculars\, which may allow you to see some features of the night sky in greater clarity.\n\nThis event will be weather dependent. \nLed by: Astronomer Leslie Young \nWhen:  Sundays throughout the Spring and Summer:
URL:https://www.theoldgallery.org/events-calendar/9272-2-2/2026-05-10/
LOCATION:The Old Gallery\, 14863 Colorado Hwy 7 Allenspark\, CO 80510\, CO\, United States
END:VEVENT
BEGIN:VEVENT
DTSTART;TZID=America/Denver:20260512T080000
DTEND;TZID=America/Denver:20260512T093000
DTSTAMP:20260425T045146
CREATED:20251216T043951Z
LAST-MODIFIED:20251216T044656Z
UID:10002213-1778572800-1778578200@www.theoldgallery.org
SUMMARY:Tai Chi
DESCRIPTION:Mike Brown will be leading a Free Tai Chi class geared towards the beginner upstairs at The Old Gallery.\n\nTai Chi is a gentle form of exercise that combines slow\, flowing movements with deep breathing and focus. It’s great for improving strength\, balance\, and flexibility – perfect for all ages and fitness levels. This beginner-friendly class will guide you through the basics at a comfortable pace. No experience needed – just wear comfy clothes and come ready to move!\n\n\n\nWhen:  Beginning in June\, every Tuesday and Friday. \nTime: 8:00 am \nPlease contact Mike Brown jongeleur@gmail.com for info on how to join the festivities.
URL:https://www.theoldgallery.org/events-calendar/tai-chi-2/2026-05-12/
LOCATION:The Old Gallery\, 14863 Colorado Hwy 7 Allenspark\, CO 80510\, CO\, United States
ORGANIZER;CN="Mike Brown":MAILTO:jongeleur@gmail.com
END:VEVENT
BEGIN:VEVENT
DTSTART;TZID=America/Denver:20260515T080000
DTEND;TZID=America/Denver:20260515T093000
DTSTAMP:20260425T045146
CREATED:20251216T043951Z
LAST-MODIFIED:20251216T044656Z
UID:10002266-1778832000-1778837400@www.theoldgallery.org
SUMMARY:Tai Chi
DESCRIPTION:Mike Brown will be leading a Free Tai Chi class geared towards the beginner upstairs at The Old Gallery.\n\nTai Chi is a gentle form of exercise that combines slow\, flowing movements with deep breathing and focus. It’s great for improving strength\, balance\, and flexibility – perfect for all ages and fitness levels. This beginner-friendly class will guide you through the basics at a comfortable pace. No experience needed – just wear comfy clothes and come ready to move!\n\n\n\nWhen:  Beginning in June\, every Tuesday and Friday. \nTime: 8:00 am \nPlease contact Mike Brown jongeleur@gmail.com for info on how to join the festivities.
URL:https://www.theoldgallery.org/events-calendar/tai-chi-2/2026-05-15/
LOCATION:The Old Gallery\, 14863 Colorado Hwy 7 Allenspark\, CO 80510\, CO\, United States
ORGANIZER;CN="Mike Brown":MAILTO:jongeleur@gmail.com
END:VEVENT
BEGIN:VEVENT
DTSTART;TZID=America/Denver:20260515T183000
DTEND;TZID=America/Denver:20260515T203000
DTSTAMP:20260425T045146
CREATED:20260325T024551Z
LAST-MODIFIED:20260325T024551Z
UID:10002626-1778869800-1778877000@www.theoldgallery.org
SUMMARY:Open Mic Night
DESCRIPTION:Step into the spotlight at our Open Mic Nights at the Gallery! Whether you sing\, strum\, read poetry\, share a story\, perform with a group\, or simply come to cheer on the talent in the room\, everyone is welcome for a fun and creative night out. Bring your voice\, your friends\, and your favorite applause – it’s a wonderful chance to celebrate local talent\, share something special\, and enjoy a great evening together at the Gallery.
URL:https://www.theoldgallery.org/events-calendar/open-mic-night/2026-05-15/
LOCATION:The Old Gallery\, 14863 Colorado Hwy 7 Allenspark\, CO 80510\, CO\, United States
END:VEVENT
END:VCALENDAR