BEGIN:VCALENDAR
VERSION:2.0
PRODID:-//Allenspark Old Gallery - ECPv6.15.20//NONSGML v1.0//EN
CALSCALE:GREGORIAN
METHOD:PUBLISH
X-ORIGINAL-URL:https://www.theoldgallery.org
X-WR-CALDESC:Events for Allenspark Old Gallery
REFRESH-INTERVAL;VALUE=DURATION:PT1H
X-Robots-Tag:noindex
X-PUBLISHED-TTL:PT1H
BEGIN:VTIMEZONE
TZID:America/Denver
BEGIN:DAYLIGHT
TZOFFSETFROM:-0700
TZOFFSETTO:-0600
TZNAME:MDT
DTSTART:20250309T090000
END:DAYLIGHT
BEGIN:STANDARD
TZOFFSETFROM:-0600
TZOFFSETTO:-0700
TZNAME:MST
DTSTART:20251102T080000
END:STANDARD
BEGIN:DAYLIGHT
TZOFFSETFROM:-0700
TZOFFSETTO:-0600
TZNAME:MDT
DTSTART:20260308T090000
END:DAYLIGHT
BEGIN:STANDARD
TZOFFSETFROM:-0600
TZOFFSETTO:-0700
TZNAME:MST
DTSTART:20261101T080000
END:STANDARD
BEGIN:DAYLIGHT
TZOFFSETFROM:-0700
TZOFFSETTO:-0600
TZNAME:MDT
DTSTART:20270314T090000
END:DAYLIGHT
BEGIN:STANDARD
TZOFFSETFROM:-0600
TZOFFSETTO:-0700
TZNAME:MST
DTSTART:20271107T080000
END:STANDARD
END:VTIMEZONE
BEGIN:VEVENT
DTSTART;TZID=America/Denver:20260419T203000
DTEND;TZID=America/Denver:20260419T223000
DTSTAMP:20260423T071450
CREATED:20251223T034210Z
LAST-MODIFIED:20260324T195646Z
UID:10002618-1776630600-1776637800@www.theoldgallery.org
SUMMARY:Mountain Skies Astronomy
DESCRIPTION:We invite you to stargaze from the back porch of The Old Gallery. \nLeslie is back and invites you to stargaze from the back porch of the Gallery.\n\nThis casual gathering will be a chance to explore our night sky and learn some interesting facts. Please come prepared with extra layers (it gets chilly in the mountains when the sun goes down) and a blanket if you want to lay back and gaze at the stars. You are welcome to bring binoculars\, which may allow you to see some features of the night sky in greater clarity.\n\nThis event will be weather dependent. \nLed by: Astronomer Leslie Young \nWhen:  Sundays throughout the Spring and Summer:
URL:https://www.theoldgallery.org/events-calendar/9272-2-2/2026-04-19/
LOCATION:The Old Gallery\, 14863 Colorado Hwy 7 Allenspark\, CO 80510\, CO\, United States
END:VEVENT
BEGIN:VEVENT
DTSTART;TZID=America/Denver:20260421T080000
DTEND;TZID=America/Denver:20260421T093000
DTSTAMP:20260423T071450
CREATED:20251216T043951Z
LAST-MODIFIED:20251216T044656Z
UID:10002210-1776758400-1776763800@www.theoldgallery.org
SUMMARY:Tai Chi
DESCRIPTION:Mike Brown will be leading a Free Tai Chi class geared towards the beginner upstairs at The Old Gallery.\n\nTai Chi is a gentle form of exercise that combines slow\, flowing movements with deep breathing and focus. It’s great for improving strength\, balance\, and flexibility – perfect for all ages and fitness levels. This beginner-friendly class will guide you through the basics at a comfortable pace. No experience needed – just wear comfy clothes and come ready to move!\n\n\n\nWhen:  Beginning in June\, every Tuesday and Friday. \nTime: 8:00 am \nPlease contact Mike Brown jongeleur@gmail.com for info on how to join the festivities.
URL:https://www.theoldgallery.org/events-calendar/tai-chi-2/2026-04-21/
LOCATION:The Old Gallery\, 14863 Colorado Hwy 7 Allenspark\, CO 80510\, CO\, United States
ORGANIZER;CN="Mike Brown":MAILTO:jongeleur@gmail.com
END:VEVENT
BEGIN:VEVENT
DTSTART;TZID=America/Denver:20260421T140000
DTEND;TZID=America/Denver:20260421T153000
DTSTAMP:20260423T071450
CREATED:20251208T213646Z
LAST-MODIFIED:20251208T214954Z
UID:10002113-1776780000-1776785400@www.theoldgallery.org
SUMMARY:Video Yoga (Tuesdays)
DESCRIPTION:Peggy Mauerman will be hosting video yoga this winter until Peggy D returns in May. \nDate: Weekly starting Jan. 2nd. Classes are held on both Tuesday at 2pm and Thursday at 9am. \nCost: Donations welcome. \nIf you are interested in attending\, please email Peggy @ peggy.mauerman@gmail.com and get on her email list. \nYou’ll need to provide your own yoga mat.
URL:https://www.theoldgallery.org/events-calendar/video-yoga-with-peggy/2026-04-21/
LOCATION:The Old Gallery\, 14863 Colorado Hwy 7 Allenspark\, CO 80510\, CO\, United States
ORGANIZER;CN="Peggy Mauerman":MAILTO:peggy.mauerman@gmail.com
END:VEVENT
BEGIN:VEVENT
DTSTART;TZID=America/Denver:20260423T090000
DTEND;TZID=America/Denver:20260423T103000
DTSTAMP:20260423T071450
CREATED:20251208T215620Z
LAST-MODIFIED:20251208T215704Z
UID:10002149-1776934800-1776940200@www.theoldgallery.org
SUMMARY:Video Yoga (Thursdays)
DESCRIPTION:Peggy Mauerman will be hosting video yoga this winter until Peggy D returns in May. \nDate: Weekly starting Jan. 2nd. Classes are held on both Tuesday at 2pm and Thursday at 9am. \nCost: Donations welcome. \nIf you are interested in attending\, please email Peggy @ peggy.mauerman@gmail.com and get on her email list. \nYou’ll need to provide your own yoga mat.
URL:https://www.theoldgallery.org/events-calendar/video-yoga-thursdays/2026-04-23/
LOCATION:The Old Gallery\, 14863 Colorado Hwy 7 Allenspark\, CO 80510\, CO\, United States
ORGANIZER;CN="Peggy Mauerman":MAILTO:peggy.mauerman@gmail.com
END:VEVENT
BEGIN:VEVENT
DTSTART;TZID=America/Denver:20260424T080000
DTEND;TZID=America/Denver:20260424T093000
DTSTAMP:20260423T071450
CREATED:20251216T043951Z
LAST-MODIFIED:20251216T044656Z
UID:10002263-1777017600-1777023000@www.theoldgallery.org
SUMMARY:Tai Chi
DESCRIPTION:Mike Brown will be leading a Free Tai Chi class geared towards the beginner upstairs at The Old Gallery.\n\nTai Chi is a gentle form of exercise that combines slow\, flowing movements with deep breathing and focus. It’s great for improving strength\, balance\, and flexibility – perfect for all ages and fitness levels. This beginner-friendly class will guide you through the basics at a comfortable pace. No experience needed – just wear comfy clothes and come ready to move!\n\n\n\nWhen:  Beginning in June\, every Tuesday and Friday. \nTime: 8:00 am \nPlease contact Mike Brown jongeleur@gmail.com for info on how to join the festivities.
URL:https://www.theoldgallery.org/events-calendar/tai-chi-2/2026-04-24/
LOCATION:The Old Gallery\, 14863 Colorado Hwy 7 Allenspark\, CO 80510\, CO\, United States
ORGANIZER;CN="Mike Brown":MAILTO:jongeleur@gmail.com
END:VEVENT
BEGIN:VEVENT
DTSTART;TZID=America/Denver:20260425T150000
DTEND;TZID=America/Denver:20260425T170000
DTSTAMP:20260423T071450
CREATED:20260218T165802Z
LAST-MODIFIED:20260324T201426Z
UID:10002623-1777129200-1777136400@www.theoldgallery.org
SUMMARY:Cocktails & Crochet
DESCRIPTION:
URL:https://www.theoldgallery.org/events-calendar/cocktails-crochet/2026-04-25/
LOCATION:The Old Gallery\, 14863 Colorado Hwy 7 Allenspark\, CO 80510\, CO\, United States
ORGANIZER;CN="The Old Gallery":MAILTO:info@theoldgallery.org
END:VEVENT
END:VCALENDAR