BEGIN:VCALENDAR
VERSION:2.0
PRODID:-//Allenspark Old Gallery - ECPv6.15.20//NONSGML v1.0//EN
CALSCALE:GREGORIAN
METHOD:PUBLISH
X-ORIGINAL-URL:https://www.theoldgallery.org
X-WR-CALDESC:Events for Allenspark Old Gallery
REFRESH-INTERVAL;VALUE=DURATION:PT1H
X-Robots-Tag:noindex
X-PUBLISHED-TTL:PT1H
BEGIN:VTIMEZONE
TZID:America/Denver
BEGIN:DAYLIGHT
TZOFFSETFROM:-0700
TZOFFSETTO:-0600
TZNAME:MDT
DTSTART:20230312T090000
END:DAYLIGHT
BEGIN:STANDARD
TZOFFSETFROM:-0600
TZOFFSETTO:-0700
TZNAME:MST
DTSTART:20231105T080000
END:STANDARD
BEGIN:DAYLIGHT
TZOFFSETFROM:-0700
TZOFFSETTO:-0600
TZNAME:MDT
DTSTART:20240310T090000
END:DAYLIGHT
BEGIN:STANDARD
TZOFFSETFROM:-0600
TZOFFSETTO:-0700
TZNAME:MST
DTSTART:20241103T080000
END:STANDARD
BEGIN:DAYLIGHT
TZOFFSETFROM:-0700
TZOFFSETTO:-0600
TZNAME:MDT
DTSTART:20250309T090000
END:DAYLIGHT
BEGIN:STANDARD
TZOFFSETFROM:-0600
TZOFFSETTO:-0700
TZNAME:MST
DTSTART:20251102T080000
END:STANDARD
BEGIN:DAYLIGHT
TZOFFSETFROM:-0700
TZOFFSETTO:-0600
TZNAME:MDT
DTSTART:20260308T090000
END:DAYLIGHT
BEGIN:STANDARD
TZOFFSETFROM:-0600
TZOFFSETTO:-0700
TZNAME:MST
DTSTART:20261101T080000
END:STANDARD
END:VTIMEZONE
BEGIN:VEVENT
DTSTART;TZID=America/Denver:20251019T183000
DTEND;TZID=America/Denver:20251019T210000
DTSTAMP:20260425T055840
CREATED:20251008T194015Z
LAST-MODIFIED:20251012T010742Z
UID:10002011-1760898600-1760907600@www.theoldgallery.org
SUMMARY:Movie Night (Beetlejuice Beetlejuice)
DESCRIPTION:Featured Movie: Beetlejuice Beetlejuice\n  \nBeetlejuice Beetlejuice brings back everyone’s favorite chaotic ghost as the Deetz family returns to their old home in Winter River. After an unexpected tragedy\, Lydia’s rebellious teenage daughter Astrid accidentally opens the portal to the Afterlife—and Beetlejuice is summoned once again. With the living and the dead colliding in hilarious and spooky fashion\, chaos erupts as Beetlejuice schemes\, shrieks\, and steals every scene.\n\n\n\nTime: 6:30 pm \nPopcorn is free. Snacks/Sodas/non-alcoholic drinks are for sale for $2\nEmail mary@healthybeme.com or check our website\, theoldgallery.org\, for updates. \nCommunity Host: Mary Hunter
URL:https://www.theoldgallery.org/events-calendar/movie-night-beetlejuice/
LOCATION:The Old Gallery\, 14863 Colorado Hwy 7 Allenspark\, CO 80510\, CO\, United States
ORGANIZER;CN="Mary Hunter":MAILTO:huntermaryr56@gmail.com
END:VEVENT
BEGIN:VEVENT
DTSTART;TZID=America/Denver:20250817T183000
DTEND;TZID=America/Denver:20250817T210000
DTSTAMP:20260425T055840
CREATED:20250508T035844Z
LAST-MODIFIED:20250717T155707Z
UID:10001888-1755455400-1755464400@www.theoldgallery.org
SUMMARY:Movie Night (Roxanne)
DESCRIPTION:Featured Movie: Roxanne\n \nIn this modern take on Edmond Rostand’s classic play “Cyrano de Bergerac\,” C. D. Bales (Steve Martin) is the witty\, intelligent\, and brave fire chief of a small Pacific Northwest town who\, due to the size of his enormous nose\, declines to pursue the girl of his dreams\, lovely Roxanne Kowalski (Daryl Hannah). \n\nTime: 6:30 pm \nPopcorn is free. Snacks/Sodas/non-alcoholic drinks are for sale for $2\nEmail mary@healthybeme.com or check our website\, theoldgallery.org\, for updates. \nCommunity Host: Mary Hunter
URL:https://www.theoldgallery.org/events-calendar/movie-night-roxanne/
LOCATION:The Old Gallery\, 14863 Colorado Hwy 7 Allenspark\, CO 80510\, CO\, United States
ORGANIZER;CN="Mary Hunter":MAILTO:huntermaryr56@gmail.com
END:VEVENT
BEGIN:VEVENT
DTSTART;TZID=America/Denver:20250720T183000
DTEND;TZID=America/Denver:20250720T210000
DTSTAMP:20260425T055840
CREATED:20250508T033251Z
LAST-MODIFIED:20250717T160257Z
UID:10001887-1753036200-1753045200@www.theoldgallery.org
SUMMARY:Movie Night (Zootopia)
DESCRIPTION:Featured Movie: Zootopia\n \nIn a city of anthropomorphic animals\, a rookie bunny cop and a cynical con artist fox must work together to uncover a conspiracy. \n\nTime: 6:30 pm \nPopcorn is free. Snacks/Sodas/non-alcoholic drinks are for sale for $2\nEmail mary@healthybeme.com or check our website\, theoldgallery.org\, for updates. \nCommunity Host: Mary Hunter
URL:https://www.theoldgallery.org/events-calendar/movie-night-zootopia/
LOCATION:The Old Gallery\, 14863 Colorado Hwy 7 Allenspark\, CO 80510\, CO\, United States
ORGANIZER;CN="Mary Hunter":MAILTO:huntermaryr56@gmail.com
END:VEVENT
BEGIN:VEVENT
DTSTART;TZID=America/Denver:20250615T183000
DTEND;TZID=America/Denver:20250615T210000
DTSTAMP:20260425T055840
CREATED:20250508T031548Z
LAST-MODIFIED:20250521T030310Z
UID:10001886-1750012200-1750021200@www.theoldgallery.org
SUMMARY:Movie Night  (The Importance of Being Earnest)
DESCRIPTION:Sunday Movie Nights\n\n\n\n\n\n\n\n\n\n\n\n\n\n\n\n\n\n\n\n\n\n\n\n\n\nNext Date: Sunday\, June 15th \nFeatured Movie: The Importance of Being Earnest \nTwo young gents have taken to bending the truth in order to put some excitement into their lives. Worthing (Colin Firth) has invented a brother\, Earnest\, whom he uses as an excuse to leave his dull life behind to visit Gwendolyn (Frances Connor). Montcrieff (Rupert Everett) decides to take the name Earnest when visiting Worthing’s young and beautiful ward\, Cecily (Reese Witherspoon).  Things start to go awry when they end up together in the country and their deceptions are discovered.\nTime: 6:30 pm. \nAdmission and Popcorn is free.\nTheater snacks and Non-alcoholic drinks are $1. \nEmail mary@healthybeme.com or check our website\, theoldgallery.org\, for updates. \n\n\n\n\nCommunity Host: Mary Hunter
URL:https://www.theoldgallery.org/events-calendar/movie-night-saving-grace/
LOCATION:The Old Gallery\, 14863 Colorado Hwy 7 Allenspark\, CO 80510\, CO\, United States
ORGANIZER;CN="Mary Hunter":MAILTO:huntermaryr56@gmail.com
END:VEVENT
BEGIN:VEVENT
DTSTART;TZID=America/Denver:20250518T183000
DTEND;TZID=America/Denver:20250518T203000
DTSTAMP:20260425T055840
CREATED:20250424T063542Z
LAST-MODIFIED:20250424T063542Z
UID:10001585-1747593000-1747600200@www.theoldgallery.org
SUMMARY:Movie Night (Chocolat)
DESCRIPTION:Sunday Movie Nights\n\n\n\n\n\n\n\n\n\n\n\n\n\n\n\n\n\n\n\n\n\n\n\n\n\n\n\n\n\n\nFeatured Movie: Chocolat \nA mysterious woman and her daughter open a chocolate store during Lent in a very conservative French town causing turmoil with the moral-minded mayor as the citizens are tempted by the sweet confections that magically change their lives.\nTime: 6:30 pm.  Admission and Popcorn is free.\nTheater snacks and Non-alcoholic drinks are $1. \nEmail mary@healthybeme.com or check our website\, theoldgallery.org\, for updates. \nSTAY WARM WITH LAUGHTER THIS MONTH! \n\n\n\n\nCommunity Host: Mary Hunter
URL:https://www.theoldgallery.org/events-calendar/movie-night-chocolat/
LOCATION:The Old Gallery\, 14863 Colorado Hwy 7 Allenspark\, CO 80510\, CO\, United States
ORGANIZER;CN="Mary Hunter":MAILTO:huntermaryr56@gmail.com
END:VEVENT
BEGIN:VEVENT
DTSTART;TZID=America/Denver:20250420T183000
DTEND;TZID=America/Denver:20250420T203000
DTSTAMP:20260425T055840
CREATED:20250320T032625Z
LAST-MODIFIED:20250508T034443Z
UID:10001438-1745173800-1745181000@www.theoldgallery.org
SUMMARY:Sunday Movie Night (The Bucket List)
DESCRIPTION:Sunday Movie Nights\n\n\n\n\n\n\n\n\n\n\n\n\n\n\n\nNext Date: Sunday\, April 20th \nFeatured Movie: The Bucket List \nBillionaire Edward Cole (Jack Nicholson) and car mechanic Carter Chambers (Morgan Freeman) are complete strangers\, until fate lands them in the same hospital room. The men find they have two things in common: a need to come to terms with who they are and what they have done with their lives\, and a desire to complete a list of things they want to see and do before they die. Against their doctor’s advice\, the men leave the hospital and set out on the adventure of a lifetime. \nTime: 6:30 pm.  Admission and Popcorn is free.\nTheater snacks and Non-alcoholic drinks are $1. \nEmail mary@healthybeme.com or check our website\, theoldgallery.org\, for updates. \nSTAY WARM WITH LAUGHTER THIS MONTH! \n\n\n\n\nCommunity Host: Mary Hunter
URL:https://www.theoldgallery.org/events-calendar/sunday-movie-night/
LOCATION:The Old Gallery\, 14863 Colorado Hwy 7 Allenspark\, CO 80510\, CO\, United States
ORGANIZER;CN="Mary Hunter":MAILTO:huntermaryr56@gmail.com
END:VEVENT
BEGIN:VEVENT
DTSTART;TZID=America/Denver:20250316T183000
DTEND;TZID=America/Denver:20250316T203000
DTSTAMP:20260425T055840
CREATED:20250204T055025Z
LAST-MODIFIED:20250223T185502Z
UID:10001434-1742149800-1742157000@www.theoldgallery.org
SUMMARY:Sunday Movie Night
DESCRIPTION:Sunday Movie Nights\n\n\n\n\n\n\n\n\n\n\n\n\n\n\n\nFeatured Movie: The Man Who Knew Too Little \nIn London a hapless American Wallace Ritchie (Bill Murray) gets signed up to participate in an elaborate role-playing theater performance. However\, when Wallace accidentally receives a call intended for an actual hit man\, he gets caught in a web of intrigue\, unaware that the action unfolding around him is real. \nTime: 6:30 pm.  Admission and Popcorn is free.\nTheater snacks and Non-alcoholic drinks are $1. \nEmail mary@healthybeme.com or check our website\, theoldgallery.org\, for updates. \nSTAY WARM WITH LAUGHTER THIS MONTH!
URL:https://www.theoldgallery.org/events-calendar/movie-night-grumpy-old-men/
LOCATION:The Old Gallery\, 14863 Colorado Hwy 7 Allenspark\, CO 80510\, CO\, United States
ORGANIZER;CN="Mary Hunter":MAILTO:huntermaryr56@gmail.com
END:VEVENT
BEGIN:VEVENT
DTSTART;TZID=America/Denver:20241117T183000
DTEND;TZID=America/Denver:20241117T210000
DTSTAMP:20260425T055840
CREATED:20241030T030633Z
LAST-MODIFIED:20241030T030633Z
UID:10001258-1731868200-1731877200@www.theoldgallery.org
SUMMARY:Movie Night (Pieces of April)
DESCRIPTION:Featured Movie: Pieces of April\n \n“The Best Thanksgiving Movie”\nIn a very poor zone of New York\, April Burns and her boyfriend\, Bobby\, are preparing to receive April’s family for thanksgiving dinner. While Bobby tries to borrow a suit for himself\, April realizes that her stove is broken. She tries desperately to find a neighbor that can let her cook the turkey\, since she does not want to fail (again) with her family. Meanwhile\, in a suburb of Pennsylvania\, her dysfunctional family is preparing to travel to New York. While driving\, the relationship between the Burns and their black-sheep April is disclosed through the conversations between her father Jim\, her resented mother Joy\, her brother\, her sister and her grandmother. \nTime: 6:30 pm \nPopcorn is free. Snacks/Sodas/non-alcoholic drinks are for sale for $1\nEmail mary@healthybeme.com or check our website\, theoldgallery.org\, for updates. \n\n\n\n\nCommunity Host: Mary Hunter
URL:https://www.theoldgallery.org/events-calendar/movie-night-pieces-of-april/
LOCATION:The Old Gallery\, 14863 Colorado Hwy 7 Allenspark\, CO 80510\, CO\, United States
ORGANIZER;CN="Mary Hunter":MAILTO:huntermaryr56@gmail.com
END:VEVENT
END:VCALENDAR