BEGIN:VCALENDAR
VERSION:2.0
PRODID:-//Allenspark Old Gallery - ECPv6.15.20//NONSGML v1.0//EN
CALSCALE:GREGORIAN
METHOD:PUBLISH
X-ORIGINAL-URL:https://www.theoldgallery.org
X-WR-CALDESC:Events for Allenspark Old Gallery
REFRESH-INTERVAL;VALUE=DURATION:PT1H
X-Robots-Tag:noindex
X-PUBLISHED-TTL:PT1H
BEGIN:VTIMEZONE
TZID:America/Denver
BEGIN:DAYLIGHT
TZOFFSETFROM:-0700
TZOFFSETTO:-0600
TZNAME:MDT
DTSTART:20210314T090000
END:DAYLIGHT
BEGIN:STANDARD
TZOFFSETFROM:-0600
TZOFFSETTO:-0700
TZNAME:MST
DTSTART:20211107T080000
END:STANDARD
BEGIN:DAYLIGHT
TZOFFSETFROM:-0700
TZOFFSETTO:-0600
TZNAME:MDT
DTSTART:20220313T090000
END:DAYLIGHT
BEGIN:STANDARD
TZOFFSETFROM:-0600
TZOFFSETTO:-0700
TZNAME:MST
DTSTART:20221106T080000
END:STANDARD
BEGIN:DAYLIGHT
TZOFFSETFROM:-0700
TZOFFSETTO:-0600
TZNAME:MDT
DTSTART:20230312T090000
END:DAYLIGHT
BEGIN:STANDARD
TZOFFSETFROM:-0600
TZOFFSETTO:-0700
TZNAME:MST
DTSTART:20231105T080000
END:STANDARD
BEGIN:DAYLIGHT
TZOFFSETFROM:-0700
TZOFFSETTO:-0600
TZNAME:MDT
DTSTART:20240310T090000
END:DAYLIGHT
BEGIN:STANDARD
TZOFFSETFROM:-0600
TZOFFSETTO:-0700
TZNAME:MST
DTSTART:20241103T080000
END:STANDARD
BEGIN:DAYLIGHT
TZOFFSETFROM:-0700
TZOFFSETTO:-0600
TZNAME:MDT
DTSTART:20250309T090000
END:DAYLIGHT
BEGIN:STANDARD
TZOFFSETFROM:-0600
TZOFFSETTO:-0700
TZNAME:MST
DTSTART:20251102T080000
END:STANDARD
BEGIN:DAYLIGHT
TZOFFSETFROM:-0700
TZOFFSETTO:-0600
TZNAME:MDT
DTSTART:20260308T090000
END:DAYLIGHT
BEGIN:STANDARD
TZOFFSETFROM:-0600
TZOFFSETTO:-0700
TZNAME:MST
DTSTART:20261101T080000
END:STANDARD
END:VTIMEZONE
BEGIN:VEVENT
DTSTART;TZID=America/Denver:20250913T090000
DTEND;TZID=America/Denver:20250913T150000
DTSTAMP:20260424T000325
CREATED:20250905T130812Z
LAST-MODIFIED:20250905T132208Z
UID:10002007-1757754000-1757775600@www.theoldgallery.org
SUMMARY:Wild Turkey Fest
DESCRIPTION:Go Wild at The Old Gallery during the Wild Turkey Festival! \nThe Wild Turkey Festival is swooping into town\, and The Old Gallery will be buzzing with activities all day long. Start your morning with a delicious pancake breakfast at the Fire Halle\, while our cash bar serves up mimosas and Bloody Marys. Later in the day\, swing back in for Wild Turkey shots to keep the celebration going. \nThroughout the festival\, you can join in on the fun with lively yard games\, try your hand at Pin the Tail on the Turkey\, and take part in our spectacular scavenger hunt. From morning to afternoon\, The Old Gallery is your headquarters for great food\, good drinks\, and plenty of festival fun. \nSwing by our booth in Downtown Allenspark to grab a delicious smoked Turkey Leg! \n 
URL:https://www.theoldgallery.org/events-calendar/9655/
LOCATION:The Old Gallery\, 14863 Colorado Hwy 7 Allenspark\, CO 80510\, CO\, United States
ORGANIZER;CN="Tony Ploughe":MAILTO:TonyPloughe@hotmail.com
END:VEVENT
BEGIN:VEVENT
DTSTART;TZID=America/Denver:20221016T140000
DTEND;TZID=America/Denver:20221016T160000
DTSTAMP:20260424T000325
CREATED:20221015T031310Z
LAST-MODIFIED:20221015T032550Z
UID:10000702-1665928800-1665936000@www.theoldgallery.org
SUMMARY:Muncie Shortridge Memorial
DESCRIPTION:
URL:https://www.theoldgallery.org/events-calendar/muncie-shortridge-memorial/
LOCATION:The Old Gallery\, 14863 Colorado Hwy 7 Allenspark\, CO 80510\, CO\, United States
ORGANIZER;CN="Tony Ploughe":MAILTO:TonyPloughe@hotmail.com
END:VEVENT
END:VCALENDAR